BEGIN:VCALENDAR
VERSION:2.0
PRODID:-//Kultur-Artour - Kulturkalender am Oberrhein &amp; Schwarzwald - Online Magazin - ECPv5.9.0//NONSGML v1.0//EN
CALSCALE:GREGORIAN
METHOD:PUBLISH
X-WR-CALNAME:Kultur-Artour - Kulturkalender am Oberrhein &amp; Schwarzwald - Online Magazin
X-ORIGINAL-URL:https://www.kulturartour.de
X-WR-CALDESC:Veranstaltungen für Kultur-Artour - Kulturkalender am Oberrhein &amp; Schwarzwald - Online Magazin
BEGIN:VTIMEZONE
TZID:Europe/Berlin
BEGIN:DAYLIGHT
TZOFFSETFROM:+0100
TZOFFSETTO:+0200
TZNAME:CEST
DTSTART:20260329T010000
END:DAYLIGHT
BEGIN:STANDARD
TZOFFSETFROM:+0200
TZOFFSETTO:+0100
TZNAME:CET
DTSTART:20261025T010000
END:STANDARD
BEGIN:DAYLIGHT
TZOFFSETFROM:+0100
TZOFFSETTO:+0200
TZNAME:CEST
DTSTART:20270328T010000
END:DAYLIGHT
BEGIN:STANDARD
TZOFFSETFROM:+0200
TZOFFSETTO:+0100
TZNAME:CET
DTSTART:20271031T010000
END:STANDARD
END:VTIMEZONE
BEGIN:VEVENT
DTSTART;VALUE=DATE:20260206
DTEND;VALUE=DATE:20271129
DTSTAMP:20260423T001451
CREATED:20260202T123506Z
LAST-MODIFIED:20260202T123711Z
UID:191287-1770336000-1827446399@www.kulturartour.de
SUMMARY:Sonderausstellung: Jugendstil international. Keramische Kunst ohne Grenzen
DESCRIPTION:Als gesellschaftliche Gegenbewegung zum konservativen Wilhelminismus und künstlerische Reaktion auf den tradierten Historismus etablierte sich um etwa 1895 der noch heute mit Faszination bewunderte Jugendstil.
URL:https://www.kulturartour.de/event/sonderausstellung-jugendstil-keramische-kunst/
LOCATION:Staufen\, Keramikmuseum\, Staufen\, Deutschland
CATEGORIES:Ausstellungen
END:VEVENT
BEGIN:VEVENT
DTSTART;VALUE=DATE:20260228
DTEND;VALUE=DATE:20270201
DTSTAMP:20260423T001451
CREATED:20260212T120851Z
LAST-MODIFIED:20260212T120851Z
UID:192236-1772236800-1801439999@www.kulturartour.de
SUMMARY:Teddy
DESCRIPTION:Wer kennt nicht Steiff\, Winnie Puuh oder den haribo-Bären? Der Teddybär ist ein Symbol für Kindheit\, Geborgenheit und zeitlose Freundschaft. Seit über einem Jahrhundert ist er ein Begleiter durch Höhen und Tiefen des Lebens – als Kuscheltier\, als wertvolles Sammlerstück oder als Ikone der Popkultur.
URL:https://www.kulturartour.de/event/teddy/
LOCATION:Basel\, Spielzeug Welten Museum\, Basel\, Schweiz
CATEGORIES:Ausstellungen
END:VEVENT
BEGIN:VEVENT
DTSTART;VALUE=DATE:20260228
DTEND;VALUE=DATE:20270201
DTSTAMP:20260423T001451
CREATED:20260221T111335Z
LAST-MODIFIED:20260221T111452Z
UID:192476-1772236800-1801439999@www.kulturartour.de
SUMMARY:„Teddy. Von Legende bis Lifestyle“ - ab 28.2. Sonderausstellung des Spielzeug Welten Museum Basel
DESCRIPTION:Die Sonderausstellung “Teddy” im Spielzeug Welten Museum in Basel zeigt die ersten Exemplare um 1900 bis hin zur Ikone der Popkultur und zum begehrten Sammlerstück: Der Teddybär ist wohl das beliebteste Kuscheltier der Welt. Einzigartig macht ihn vor allem seine emotionale Bedeutung: Denn er ist längst nicht nur Spielzeug\, sondern oft auch ein treuer Freund\, Tröster und stiller Zuhörer. \nEröffnung am Samstag\, 28. Februar 2026 – 10 – 18 Uhr: \nAm Eröffnungstag erhalten Besucher:innen in Begleitung eines Teddybären freien Eintritt ins Museum. Zudem sind sie eingeladen\, selbst zum Teddybären zu werden und ein Erinnerungsfoto zu machen.
URL:https://www.kulturartour.de/event/teddy-von-legende-lifestyle/
LOCATION:Basel\, Spielzeug Welten Museum\, Basel\, Schweiz
CATEGORIES:Ausstellungen
END:VEVENT
BEGIN:VEVENT
DTSTART;VALUE=DATE:20260228
DTEND;VALUE=DATE:20270222
DTSTAMP:20260423T001451
CREATED:20260326T183822Z
LAST-MODIFIED:20260326T183849Z
UID:193860-1772236800-1803254399@www.kulturartour.de
SUMMARY:Zukunfts(t)räume – Museum im Wandel
DESCRIPTION:Kloster\, Theater\, Kartoffellager\, Museum – und partizipativer Ort für kulturellen Austausch: Im FREI_Raum\, einem der neuen Wechselausstellungsräume im Augustinermuseum\, blickt das Haus zurück auf seine Geschichte und denkt gemeinsam mit den Freiburger*innen in die Zukunft. \n/https://museen.freiburg.de/
URL:https://www.kulturartour.de/event/zukunftstraeume-museum-im-wandel/
LOCATION:Freiburg\, Augustinermuseum\, Freiburg\, Deutschland
CATEGORIES:Ausstellungen
END:VEVENT
BEGIN:VEVENT
DTSTART;VALUE=DATE:20260305
DTEND;VALUE=DATE:20270308
DTSTAMP:20260423T001451
CREATED:20260104T201314Z
LAST-MODIFIED:20260104T201314Z
UID:188047-1772668800-1804463999@www.kulturartour.de
SUMMARY:Nicolas Darrot. Fuzzy Logic - im Museum Tinguely\, Basel
DESCRIPTION:Fuzzy-Logik\, eine Art künstliche Intelligenz\, die es Computern ermöglicht\, mit «unscharfen» Konzepten umzugehen\, ahmt menschliches Denkvermögen nach. Hier gibt es nicht nur das streng binäre 1 (ja\, wahr) oder 0 (nein\, falsch)\, sondern sie arbeitet mit Abstufungen\, um so Zustände wie warm oder kühl eher sprachlich als streng mathematisch beschreiben zu können. Nicolas Darrots Fuzzy Logic-Figuren sind voller Unsicherheiten und Gemütsschwankungen\, ihr Tanz ist spontan\, ihr Spiel ist komplex\, ihr Talent unvollkommen.
URL:https://www.kulturartour.de/event/carl-cheng-nature-never-3-2/
LOCATION:Basel\, Museum Tinguely\, Paul Sacher-Anlage 2\, Basel\, 4002\, Schweiz
CATEGORIES:Ausstellungen
GEO:47.5588139;7.6117053
X-APPLE-STRUCTURED-LOCATION;VALUE=URI;X-ADDRESS=Basel Museum Tinguely Paul Sacher-Anlage 2 Basel 4002 Schweiz;X-APPLE-RADIUS=500;X-TITLE=Paul Sacher-Anlage 2:geo:7.6117053,47.5588139
END:VEVENT
BEGIN:VEVENT
DTSTART;VALUE=DATE:20260305
DTEND;VALUE=DATE:20270308
DTSTAMP:20260423T001451
CREATED:20260129T180741Z
LAST-MODIFIED:20260129T180835Z
UID:191026-1772668800-1804463999@www.kulturartour.de
SUMMARY:Nicolas Darrot. Fuzzy Logic
DESCRIPTION:
URL:https://www.kulturartour.de/event/nicolas-darrot-fuzzy-logic/
LOCATION:Basel\, Museum Tinguely\, Paul Sacher-Anlage 2\, Basel\, 4002\, Schweiz
CATEGORIES:Ausstellungen
GEO:47.5588139;7.6117053
X-APPLE-STRUCTURED-LOCATION;VALUE=URI;X-ADDRESS=Basel Museum Tinguely Paul Sacher-Anlage 2 Basel 4002 Schweiz;X-APPLE-RADIUS=500;X-TITLE=Paul Sacher-Anlage 2:geo:7.6117053,47.5588139
END:VEVENT
BEGIN:VEVENT
DTSTART;VALUE=DATE:20260321
DTEND;VALUE=DATE:20270713
DTSTAMP:20260423T001451
CREATED:20260226T184545Z
LAST-MODIFIED:20260226T184545Z
UID:192753-1774051200-1815436799@www.kulturartour.de
SUMMARY:Delcy Morelos
DESCRIPTION:Die kolumbianische Künstlerin Delcy Morelos (*1967) verwandelt den Ausstellungsraum der Lokremise in eine raumgreifende Installation aus Erde\, Lehm\, Naturholz\, Stroh und Gewürzen.
URL:https://www.kulturartour.de/event/marie-schuhmann-coatings-2/
LOCATION:St. Gallen\, Lokremise\, St. Gallen\, Schweiz
CATEGORIES:Ausstellungen
END:VEVENT
BEGIN:VEVENT
DTSTART;VALUE=DATE:20260424
DTEND;VALUE=DATE:20270125
DTSTAMP:20260423T001451
CREATED:20260210T112224Z
LAST-MODIFIED:20260210T112224Z
UID:192179-1776988800-1800835199@www.kulturartour.de
SUMMARY:Die Eule ist pink - farbige Geschichten
DESCRIPTION:
URL:https://www.kulturartour.de/event/die-eule-ist-pink-farbige-geschichten/
LOCATION:Basel\, Museum der Kulturen\, Basel\, Schweiz
CATEGORIES:Ausstellungen
END:VEVENT
BEGIN:VEVENT
DTSTART;VALUE=DATE:20260522
DTEND;VALUE=DATE:20270405
DTSTAMP:20260423T001451
CREATED:20260318T112720Z
LAST-MODIFIED:20260318T113145Z
UID:193474-1779408000-1806883199@www.kulturartour.de
SUMMARY:"Gefühlte Wahrheiten. Zeppeline und Nationalsozialismus" - im Zeppelin Museum
DESCRIPTION:2026 feiert das Zeppelin Museum sein 30jähriges Jubiläum. Zu diesem Anlass stellt sich das Museum in der Ausstellung Gefühlte Wahrheiten. Zeppeline und Nationalsozialismus seiner eigenen Geschichte und arbeitet die Verstrickungen zwischen Luftschiffbau und NS-Staat erstmals umfassend auf.
URL:https://www.kulturartour.de/event/gefuehlte-wahrheiten-zeppeline-nationalsozialismus/
LOCATION:Friedrichshafen\, Zeppelin Museum\, Zeppelin Museum\, Friedrichshafen\, Deutschland
CATEGORIES:Ausstellungen
GEO:47.6507925;9.4830611
X-APPLE-STRUCTURED-LOCATION;VALUE=URI;X-ADDRESS=Friedrichshafen Zeppelin Museum Zeppelin Museum Friedrichshafen Deutschland;X-APPLE-RADIUS=500;X-TITLE=Zeppelin Museum:geo:9.4830611,47.6507925
END:VEVENT
BEGIN:VEVENT
DTSTART;VALUE=DATE:20260523
DTEND;VALUE=DATE:20270322
DTSTAMP:20260423T001451
CREATED:20260210T112904Z
LAST-MODIFIED:20260210T112904Z
UID:192187-1779494400-1805673599@www.kulturartour.de
SUMMARY:Basel auf dem Teller - Kulinarische Stadtgeschichten
DESCRIPTION:
URL:https://www.kulturartour.de/event/basel-teller-kulinarische-stadtgeschichten/
LOCATION:Basel\, Museum Kleines Klingental\, Basel\, Schweiz
CATEGORIES:Ausstellungen
GEO:47.5595986;7.5885761
END:VEVENT
BEGIN:VEVENT
DTSTART;VALUE=DATE:20260523
DTEND;VALUE=DATE:20270510
DTSTAMP:20260423T001451
CREATED:20260212T121404Z
LAST-MODIFIED:20260212T121404Z
UID:192242-1779494400-1809907199@www.kulturartour.de
SUMMARY:Verner Panton. Form\, Farbe\, Raum
DESCRIPTION:
URL:https://www.kulturartour.de/event/verner-panton-form-farbe/
LOCATION:Weil a.Rh.\, Vitra Schaudepot\, Weil a.Rh.\, Deutschland
CATEGORIES:Ausstellungen
GEO:47.5934368;7.6198121
END:VEVENT
BEGIN:VEVENT
DTSTART;VALUE=DATE:20260704
DTEND;VALUE=DATE:20270208
DTSTAMP:20260423T001451
CREATED:20260123T091148Z
LAST-MODIFIED:20260123T091148Z
UID:190106-1783123200-1802044799@www.kulturartour.de
SUMMARY:Silver Egg. Die Sinnlichkeit der Medienkunst - ZKM Karlsruhe
DESCRIPTION:Die Ausstellung versammelt rund 30 Positionen engagierter\, experimenteller und poetischer Medienkunst\, die sich mit drängenden Fragen unserer Zeit auseinandersetzen. Die präsentierten Werke thematisieren die Sehnsüchte\, Mängel und Herausforderungen unserer Gegenwart und laden zu einer intensiven Auseinandersetzung mit dem gedanklich und technisch Möglichen ein
URL:https://www.kulturartour.de/event/silver-egg-die-sinnlichkeit/
LOCATION:Karlsruhe\, ZKM
CATEGORIES:Ausstellungen
END:VEVENT
BEGIN:VEVENT
DTSTART;VALUE=DATE:20260904
DTEND;VALUE=DATE:20270426
DTSTAMP:20260423T001451
CREATED:20260210T112355Z
LAST-MODIFIED:20260210T112355Z
UID:192181-1788480000-1808697599@www.kulturartour.de
SUMMARY:Tie-dye: gefaltet\, genäht\, gefärbt
DESCRIPTION:
URL:https://www.kulturartour.de/event/tie-dye-gefaltet-genaeht-gefaerbt/
LOCATION:Basel\, Museum der Kulturen\, Basel\, Schweiz
CATEGORIES:Ausstellungen
END:VEVENT
BEGIN:VEVENT
DTSTART;VALUE=DATE:20260917
DTEND;VALUE=DATE:20270901
DTSTAMP:20260423T001451
CREATED:20260123T092630Z
LAST-MODIFIED:20260123T092630Z
UID:190104-1789603200-1819756799@www.kulturartour.de
SUMMARY:Hör auf dein Bauchgefühl - Unterwegs im Verdauungstrakt
DESCRIPTION:
URL:https://www.kulturartour.de/event/hoer-bauchgefuehl-unterwegs-verdauungstrakt/
LOCATION:Basel\, Anatomisches Museum der Universität\, Basel\, Schweiz
CATEGORIES:Ausstellungen
GEO:47.5595986;7.5885761
END:VEVENT
BEGIN:VEVENT
DTSTART;VALUE=DATE:20260919
DTEND;VALUE=DATE:20270419
DTSTAMP:20260423T001451
CREATED:20260123T094302Z
LAST-MODIFIED:20260123T094302Z
UID:190141-1789776000-1808092799@www.kulturartour.de
SUMMARY:Zuhause - unterwegs. Migration und Mobilität im Dreiländereck
DESCRIPTION:
URL:https://www.kulturartour.de/event/zuhause-migration-mobilitaet-dreilaendereck/
LOCATION:Lörrach\, Dreiländer-Museum\, Lörrach\, Deutschland
CATEGORIES:Ausstellungen
END:VEVENT
BEGIN:VEVENT
DTSTART;VALUE=DATE:20260919
DTEND;VALUE=DATE:20270208
DTSTAMP:20260423T001451
CREATED:20260210T111536Z
LAST-MODIFIED:20260210T111536Z
UID:192169-1789776000-1802044799@www.kulturartour.de
SUMMARY:Van Gogh\, Hodler + ein Cabriolet. Die Sammlerin Gertrud Dübi-Müller
DESCRIPTION:
URL:https://www.kulturartour.de/event/van-gogh-hodler-cabriolet/
LOCATION:Basel\, Kunstmuseum\, Basel\, Schweiz
CATEGORIES:Ausstellungen
END:VEVENT
BEGIN:VEVENT
DTSTART;VALUE=DATE:20260923
DTEND;VALUE=DATE:20270308
DTSTAMP:20260423T001451
CREATED:20260104T201739Z
LAST-MODIFIED:20260104T201751Z
UID:188053-1790121600-1804463999@www.kulturartour.de
SUMMARY:Zilla Leutenegger ZWISCH ENRAUM/HINDU RCHZUSCHAUN - im Museum Tinguely\, Basel
DESCRIPTION:Ein Blick durch den Türspalt\, ein Geräusch unter der Treppe\, ein Schatten im Gebälk: es ist\, als wäre jemand im Museum eingezogen. Zilla Leuteneggers multimediale Installationen
URL:https://www.kulturartour.de/event/carl-cheng-nature-never-3-2-2-2-2/
LOCATION:Basel\, Museum Tinguely\, Paul Sacher-Anlage 2\, Basel\, 4002\, Schweiz
CATEGORIES:Ausstellungen
GEO:47.5588139;7.6117053
X-APPLE-STRUCTURED-LOCATION;VALUE=URI;X-ADDRESS=Basel Museum Tinguely Paul Sacher-Anlage 2 Basel 4002 Schweiz;X-APPLE-RADIUS=500;X-TITLE=Paul Sacher-Anlage 2:geo:7.6117053,47.5588139
END:VEVENT
BEGIN:VEVENT
DTSTART;VALUE=DATE:20260923
DTEND;VALUE=DATE:20270308
DTSTAMP:20260423T001451
CREATED:20260212T115750Z
LAST-MODIFIED:20260212T115750Z
UID:192226-1790121600-1804463999@www.kulturartour.de
SUMMARY:Zilla Leutenegger. "Zwisch enraum/Hindu Rchzuschaun
DESCRIPTION:
URL:https://www.kulturartour.de/event/zilla-leutenegger-zwisch-hindu/
LOCATION:Basel\, Museum Tinguely\, Paul Sacher-Anlage 2\, Basel\, 4002\, Schweiz
CATEGORIES:Ausstellungen
GEO:47.5588139;7.6117053
X-APPLE-STRUCTURED-LOCATION;VALUE=URI;X-ADDRESS=Basel Museum Tinguely Paul Sacher-Anlage 2 Basel 4002 Schweiz;X-APPLE-RADIUS=500;X-TITLE=Paul Sacher-Anlage 2:geo:7.6117053,47.5588139
END:VEVENT
BEGIN:VEVENT
DTSTART;TZID=Europe/Berlin:20260923T080000
DTEND;TZID=Europe/Berlin:20270307T170000
DTSTAMP:20260423T001451
CREATED:20260129T181440Z
LAST-MODIFIED:20260129T181440Z
UID:191032-1790150400-1804438800@www.kulturartour.de
SUMMARY:Zilla Leutenegger. ZWISCH ENRAUM/HINDU RCHZUSCHAUN
DESCRIPTION:
URL:https://www.kulturartour.de/event/zilla-leutenegger-zwisch-enraum/
LOCATION:Basel\, Museum Tinguely\, Paul Sacher-Anlage 2\, Basel\, 4002\, Schweiz
CATEGORIES:Ausstellungen
GEO:47.5588139;7.6117053
X-APPLE-STRUCTURED-LOCATION;VALUE=URI;X-ADDRESS=Basel Museum Tinguely Paul Sacher-Anlage 2 Basel 4002 Schweiz;X-APPLE-RADIUS=500;X-TITLE=Paul Sacher-Anlage 2:geo:7.6117053,47.5588139
END:VEVENT
BEGIN:VEVENT
DTSTART;VALUE=DATE:20260926
DTEND;VALUE=DATE:20270301
DTSTAMP:20260423T001451
CREATED:20260212T121529Z
LAST-MODIFIED:20260212T121529Z
UID:192245-1790380800-1803859199@www.kulturartour.de
SUMMARY:Geoffrey Bawa. Architektur für die Sinne
DESCRIPTION:
URL:https://www.kulturartour.de/event/geoffrey-bawa-architektur-sinne/
LOCATION:Weil a.Rh.\, Vitra Design Museum\, Weil a.Rh.\, Deutschland
CATEGORIES:Ausstellungen
END:VEVENT
BEGIN:VEVENT
DTSTART;VALUE=DATE:20260927
DTEND;VALUE=DATE:20270201
DTSTAMP:20260423T001451
CREATED:20260226T185142Z
LAST-MODIFIED:20260226T185142Z
UID:192763-1790467200-1801439999@www.kulturartour.de
SUMMARY:El Gato Muerto
DESCRIPTION:El Gato Muerto ist eine intime\, japanisch inspirierte Dive- Bar von Barbara Signer und Michael Bodenmann – seit Kurzem Teil der Sammlung\, nachdem sie an vielen temporären Orten nächtliche Lebensfreude verbreitete.
URL:https://www.kulturartour.de/event/marie-schuhmann-coatings-2-2-2-2-2-2/
LOCATION:St. Gallen\, Kunstmuseum\, St. Gallen\, Schweiz
CATEGORIES:Ausstellungen
GEO:47.4244818;9.3767173
END:VEVENT
BEGIN:VEVENT
DTSTART;VALUE=DATE:20261003
DTEND;VALUE=DATE:20270301
DTSTAMP:20260423T001451
CREATED:20251116T104439Z
LAST-MODIFIED:20251116T104439Z
UID:186138-1790985600-1803859199@www.kulturartour.de
SUMMARY:Manosphere. Masculinity Today
DESCRIPTION:
URL:https://www.kulturartour.de/event/manosphere-masculinity-today/
LOCATION:St. Gallen\, Kunstmuseum\, St. Gallen\, Schweiz
CATEGORIES:Ausstellungen
GEO:47.4244818;9.3767173
END:VEVENT
BEGIN:VEVENT
DTSTART;VALUE=DATE:20261003
DTEND;VALUE=DATE:20270301
DTSTAMP:20260423T001451
CREATED:20260226T185233Z
LAST-MODIFIED:20260226T185233Z
UID:192765-1790985600-1803859199@www.kulturartour.de
SUMMARY:Manosphere. Masculinity Today
DESCRIPTION:Was bedeutet es heute\, ein Mann zu sein? Mit dem Aufkommen der sogenannten «Manosphere» – einem Netzwerk von Online-Räumen\, in denen eine misogyne Männlichkeit propagiert wird – ist diese Frage dringlich geworden.
URL:https://www.kulturartour.de/event/marie-schuhmann-coatings-2-2-2-2-2-2-2/
LOCATION:St. Gallen\, Kunstmuseum\, St. Gallen\, Schweiz
CATEGORIES:Ausstellungen
GEO:47.4244818;9.3767173
END:VEVENT
BEGIN:VEVENT
DTSTART;VALUE=DATE:20261015
DTEND;VALUE=DATE:20270705
DTSTAMP:20260423T001451
CREATED:20260123T101503Z
LAST-MODIFIED:20260123T101503Z
UID:190161-1792022400-1814745599@www.kulturartour.de
SUMMARY:Atomkraft: Deine Entscheidung
DESCRIPTION:
URL:https://www.kulturartour.de/event/atomkraft-deine-entscheidung/
LOCATION:Basel\, HMB – Historisches Museum\, Barfüsserkirche\, Barfüsserplatz 7\, Basel\, Schweiz
CATEGORIES:Ausstellungen
GEO:47.5545627;7.5903284
X-APPLE-STRUCTURED-LOCATION;VALUE=URI;X-ADDRESS=Basel HMB – Historisches Museum Barfüsserkirche Barfüsserplatz 7 Basel Schweiz;X-APPLE-RADIUS=500;X-TITLE=Barfüsserplatz 7:geo:7.5903284,47.5545627
END:VEVENT
BEGIN:VEVENT
DTSTART;VALUE=DATE:20261018
DTEND;VALUE=DATE:20270419
DTSTAMP:20260423T001451
CREATED:20260123T092945Z
LAST-MODIFIED:20260123T092945Z
UID:190121-1792281600-1808092799@www.kulturartour.de
SUMMARY:Aufbruch! Was bewegt Menschen damals und heute?
DESCRIPTION:
URL:https://www.kulturartour.de/event/aufbruch-was-bewegt-menschen-damals-und-heute/
LOCATION:Basel\, Antikenmuseum und Sammlung Ludwig\, St. Alban-Graben 5\, Basel\, 4010\, Schweiz
CATEGORIES:Ausstellungen
END:VEVENT
BEGIN:VEVENT
DTSTART;VALUE=DATE:20261024
DTEND;VALUE=DATE:20270125
DTSTAMP:20260423T001451
CREATED:20260420T172920Z
LAST-MODIFIED:20260420T174223Z
UID:195463-1792800000-1800835199@www.kulturartour.de
SUMMARY:André Wischnewski
DESCRIPTION:
URL:https://www.kulturartour.de/event/kabinettstuecke-raymond-pettibon-nervous-2-2-2-2-2/
LOCATION:Ludwigshafen\, Wilhelm Hack Museum\, Ludwigshafen\, Deutschland
CATEGORIES:Ausstellungen
END:VEVENT
BEGIN:VEVENT
DTSTART;VALUE=DATE:20261030
DTEND;VALUE=DATE:20270125
DTSTAMP:20260423T001451
CREATED:20260123T103023Z
LAST-MODIFIED:20260123T103023Z
UID:190182-1793318400-1800835199@www.kulturartour.de
SUMMARY:Özgür Kar
DESCRIPTION:
URL:https://www.kulturartour.de/event/oezguer-kar/
LOCATION:Basel\, Kunsthalle\, Basel\, Schweiz
CATEGORIES:Ausstellungen
END:VEVENT
BEGIN:VEVENT
DTSTART;VALUE=DATE:20261031
DTEND;VALUE=DATE:20270726
DTSTAMP:20260423T001451
CREATED:20260420T172429Z
LAST-MODIFIED:20260420T172429Z
UID:195457-1793404800-1816559999@www.kulturartour.de
SUMMARY:Die Unendlichkeit des Raumes. Raumkonzepte in der Moderne
DESCRIPTION:Die Konstruktion des Bildraums ist spätestens seit der Renaissance das bedeutendste Prinzip der Bildenden Kunst. Die Leinwand wird als offenes Fenster verstanden\, das den Blick auf eine andere Wirklichkeit freigibt.
URL:https://www.kulturartour.de/event/kabinettstuecke-raymond-pettibon-nervous-2-2/
LOCATION:Ludwigshafen\, Wilhelm Hack Museum\, Ludwigshafen\, Deutschland
CATEGORIES:Ausstellungen
END:VEVENT
BEGIN:VEVENT
DTSTART;VALUE=DATE:20261107
DTEND;VALUE=DATE:20270322
DTSTAMP:20260423T001451
CREATED:20251116T104642Z
LAST-MODIFIED:20251116T104642Z
UID:186140-1794009600-1805673599@www.kulturartour.de
SUMMARY:Ahmad Al Rayyan
DESCRIPTION:
URL:https://www.kulturartour.de/event/ahmad-al-rayyan/
LOCATION:St. Gallen\, Kunstmuseum\, St. Gallen\, Schweiz
CATEGORIES:Ausstellungen
GEO:47.4244818;9.3767173
END:VEVENT
BEGIN:VEVENT
DTSTART;VALUE=DATE:20261107
DTEND;VALUE=DATE:20270322
DTSTAMP:20260423T001451
CREATED:20251116T104842Z
LAST-MODIFIED:20251116T104842Z
UID:186142-1794009600-1805673599@www.kulturartour.de
SUMMARY:Verena Merz
DESCRIPTION:
URL:https://www.kulturartour.de/event/verena-merz/
LOCATION:St. Gallen\, Kunstmuseum\, St. Gallen\, Schweiz
CATEGORIES:Ausstellungen
GEO:47.4244818;9.3767173
END:VEVENT
END:VCALENDAR