BEGIN:VCALENDAR
VERSION:2.0
PRODID:-//Kultur-Artour - Kulturkalender am Oberrhein &amp; Schwarzwald - Online Magazin - ECPv5.9.0//NONSGML v1.0//EN
CALSCALE:GREGORIAN
METHOD:PUBLISH
X-WR-CALNAME:Kultur-Artour - Kulturkalender am Oberrhein &amp; Schwarzwald - Online Magazin
X-ORIGINAL-URL:https://www.kulturartour.de
X-WR-CALDESC:Veranstaltungen für Kultur-Artour - Kulturkalender am Oberrhein &amp; Schwarzwald - Online Magazin
BEGIN:VTIMEZONE
TZID:Europe/Berlin
BEGIN:DAYLIGHT
TZOFFSETFROM:+0100
TZOFFSETTO:+0200
TZNAME:CEST
DTSTART:20260329T010000
END:DAYLIGHT
BEGIN:STANDARD
TZOFFSETFROM:+0200
TZOFFSETTO:+0100
TZNAME:CET
DTSTART:20261025T010000
END:STANDARD
END:VTIMEZONE
BEGIN:VEVENT
DTSTART;TZID=Europe/Berlin:20260425T200000
DTEND;TZID=Europe/Berlin:20260425T200000
DTSTAMP:20260421T164854
CREATED:20260129T093157Z
LAST-MODIFIED:20260129T093159Z
UID:190954-1777147200-1777147200@www.kulturartour.de
SUMMARY:"Zehner" - von Fayer Koch - auch 20. + 24.3. um 19h30\, 22. + 25.3. um 20h\, 22.3. um 19h30\, 9.\, 18.\, 25. + 29.4. um 20h\, 17. + 30.4. um 19h30\, 29.4. um 15h
DESCRIPTION:
URL:https://www.kulturartour.de/event/zehner-von-fayer-koch-auch-20-24-3-um-19h30-22-25-3-um-20h-22-3-um-19h30-9-18-25-29-4-um-20h-17-30-4-um-19h30-29-4-um-15h__trashed/2026-04-25/
LOCATION:Konstanz\, Stadttheater\, Konstanz\, Deutschland
CATEGORIES:Schauspiel
GEO:47.6779496;9.1732384
END:VEVENT
END:VCALENDAR