BEGIN:VCALENDAR
VERSION:2.0
PRODID:-//Kultur-Artour - Kulturkalender am Oberrhein &amp; Schwarzwald - Online Magazin - ECPv5.9.0//NONSGML v1.0//EN
CALSCALE:GREGORIAN
METHOD:PUBLISH
X-WR-CALNAME:Kultur-Artour - Kulturkalender am Oberrhein &amp; Schwarzwald - Online Magazin
X-ORIGINAL-URL:https://www.kulturartour.de
X-WR-CALDESC:Veranstaltungen für Kultur-Artour - Kulturkalender am Oberrhein &amp; Schwarzwald - Online Magazin
BEGIN:VTIMEZONE
TZID:Europe/Berlin
BEGIN:DAYLIGHT
TZOFFSETFROM:+0100
TZOFFSETTO:+0200
TZNAME:CEST
DTSTART:20260329T010000
END:DAYLIGHT
BEGIN:STANDARD
TZOFFSETFROM:+0200
TZOFFSETTO:+0100
TZNAME:CET
DTSTART:20261025T010000
END:STANDARD
END:VTIMEZONE
BEGIN:VEVENT
DTSTART;VALUE=DATE:20260710
DTEND;VALUE=DATE:20260810
DTSTAMP:20260420T182820
CREATED:20260220T200442Z
LAST-MODIFIED:20260220T200442Z
UID:192435-1783641600-1786319999@www.kulturartour.de
SUMMARY:Wir zeigen euch was! – Keramiken von Schulklassen aus Staufen
DESCRIPTION:10.07. – 09.08.2026 Wir zeigen euch was! – Schulklassen aus Staufen\nAuf Initiative des Förderkreises Keramikmuseum Staufen und deren Keramikerinnen konnten in den letzten Jahren wieder Töpferkurse an den Schulen in Staufen eingeführt werden. Mit Unterstützung der Brigitte-Busse-Stiftung wurde dieses Angebot jüngst ausgeweitet. In der Ausstellung werden erstmals Arbeiten dieser Kurse gezeigt.\nDie Aktionstage am 11. und 12. Juli stehen ganz im Zeichen dieser Initiative\, Kindern und Jugendlichen Spaß mit Ton und am Töpfern zu vermitteln. \nVernissage zu den Aktionstagen des Fördervereins des Keramikmuseums Staufen während des Kunsthandwerkermarktes in Staufen
URL:https://www.kulturartour.de/event/wir-keramiken-schulklassen-staufen/
LOCATION:Staufen\, Keramikmuseum\, Staufen\, Deutschland
CATEGORIES:Ausstellungen,Junge Bühne,Literatur Führungen Vorträge
END:VEVENT
END:VCALENDAR