BEGIN:VCALENDAR
VERSION:2.0
PRODID:-//Kultur-Artour - Kulturkalender am Oberrhein &amp; Schwarzwald - Online Magazin - ECPv5.9.0//NONSGML v1.0//EN
CALSCALE:GREGORIAN
METHOD:PUBLISH
X-WR-CALNAME:Kultur-Artour - Kulturkalender am Oberrhein &amp; Schwarzwald - Online Magazin
X-ORIGINAL-URL:https://www.kulturartour.de
X-WR-CALDESC:Veranstaltungen für Kultur-Artour - Kulturkalender am Oberrhein &amp; Schwarzwald - Online Magazin
BEGIN:VTIMEZONE
TZID:Europe/Berlin
BEGIN:DAYLIGHT
TZOFFSETFROM:+0100
TZOFFSETTO:+0200
TZNAME:CEST
DTSTART:20260329T010000
END:DAYLIGHT
BEGIN:STANDARD
TZOFFSETFROM:+0200
TZOFFSETTO:+0100
TZNAME:CET
DTSTART:20261025T010000
END:STANDARD
END:VTIMEZONE
BEGIN:VEVENT
DTSTART;TZID=Europe/Berlin:20260505T190000
DTEND;TZID=Europe/Berlin:20260505T190000
DTSTAMP:20260422T131339
CREATED:20260330T104605Z
LAST-MODIFIED:20260330T104605Z
UID:194104-1778007600-1778007600@www.kulturartour.de
SUMMARY:Windsbacher Knabenchor + SPARK-die klassische Band - Werke v. J.S. Bach\, Brahms\, Bruch\, Hassler\, Reger\, Lieder auf Texte v. Paul Gerhardt + Volkslieder
DESCRIPTION:
URL:https://www.kulturartour.de/event/windsbacher-knabenchor-spark-band/
LOCATION:Worms\, Dom St. Peter\, Worms\, Deutschland
CATEGORIES:Konzerte
END:VEVENT
END:VCALENDAR