BEGIN:VCALENDAR
VERSION:2.0
PRODID:-//Kultur-Artour - Kulturkalender am Oberrhein &amp; Schwarzwald - Online Magazin - ECPv5.9.0//NONSGML v1.0//EN
CALSCALE:GREGORIAN
METHOD:PUBLISH
X-WR-CALNAME:Kultur-Artour - Kulturkalender am Oberrhein &amp; Schwarzwald - Online Magazin
X-ORIGINAL-URL:https://www.kulturartour.de
X-WR-CALDESC:Veranstaltungen für Kultur-Artour - Kulturkalender am Oberrhein &amp; Schwarzwald - Online Magazin
BEGIN:VTIMEZONE
TZID:Europe/Berlin
BEGIN:DAYLIGHT
TZOFFSETFROM:+0100
TZOFFSETTO:+0200
TZNAME:CEST
DTSTART:20260329T010000
END:DAYLIGHT
BEGIN:STANDARD
TZOFFSETFROM:+0200
TZOFFSETTO:+0100
TZNAME:CET
DTSTART:20261025T010000
END:STANDARD
END:VTIMEZONE
BEGIN:VEVENT
DTSTART;VALUE=DATE:20260416
DTEND;VALUE=DATE:20260803
DTSTAMP:20260421T215556
CREATED:20260416T102546Z
LAST-MODIFIED:20260416T102546Z
UID:195226-1776297600-1785715199@www.kulturartour.de
SUMMARY:"Wettstreit mit der Wirklichkeit" - 60 Jahre Fotorealismus
DESCRIPTION:
URL:https://www.kulturartour.de/event/wettstreit-wirklichkeit-jahre-fotorealismus/
LOCATION:Baden-Baden\, Museum Frieder Burda\, Baden-Baden\, Deutschland
CATEGORIES:Ausstellungen
END:VEVENT
END:VCALENDAR