BEGIN:VCALENDAR
VERSION:2.0
PRODID:-//Kultur-Artour - Kulturkalender am Oberrhein &amp; Schwarzwald - Online Magazin - ECPv5.9.0//NONSGML v1.0//EN
CALSCALE:GREGORIAN
METHOD:PUBLISH
X-WR-CALNAME:Kultur-Artour - Kulturkalender am Oberrhein &amp; Schwarzwald - Online Magazin
X-ORIGINAL-URL:https://www.kulturartour.de
X-WR-CALDESC:Veranstaltungen für Kultur-Artour - Kulturkalender am Oberrhein &amp; Schwarzwald - Online Magazin
BEGIN:VTIMEZONE
TZID:Europe/Berlin
BEGIN:DAYLIGHT
TZOFFSETFROM:+0100
TZOFFSETTO:+0200
TZNAME:CEST
DTSTART:20220327T010000
END:DAYLIGHT
BEGIN:STANDARD
TZOFFSETFROM:+0200
TZOFFSETTO:+0100
TZNAME:CET
DTSTART:20221030T010000
END:STANDARD
END:VTIMEZONE
BEGIN:VEVENT
DTSTART;TZID=Europe/Berlin:20220731T190000
DTEND;TZID=Europe/Berlin:20220731T190000
DTSTAMP:20260426T043038
CREATED:20220614T114034Z
LAST-MODIFIED:20220614T114034Z
UID:110420-1659294000-1659294000@www.kulturartour.de
SUMMARY:»Wenn im Prater die Bäume blühen …" Melodien à la carte\,  4. Schlosskonzert der Heidelberger Schlossfestspiele
DESCRIPTION:Wiener Walzer werden am 31. Juli und 7. August 2022 bei »Melodien à la carte« musikalische und auch ganz buchstäbliche Leckerbissen aus der Spitzenküche des Spitzenkochs Martin Scharff serviert. \nWilfried Staber\,  Bass\,\nPhilharmonische Orchester Heidelberg\nDirigent: Paul Taubitz
URL:https://www.kulturartour.de/event/wenn-prater-baeume-melodien/2022-07-31/
LOCATION:Heidelberg\, Schlosshof\, Heidelberg\, Deutschland
GEO:49.3987524;8.6724335
END:VEVENT
END:VCALENDAR