BEGIN:VCALENDAR
VERSION:2.0
PRODID:-//Kultur-Artour - Kulturkalender am Oberrhein &amp; Schwarzwald - Online Magazin - ECPv5.9.0//NONSGML v1.0//EN
CALSCALE:GREGORIAN
METHOD:PUBLISH
X-WR-CALNAME:Kultur-Artour - Kulturkalender am Oberrhein &amp; Schwarzwald - Online Magazin
X-ORIGINAL-URL:https://www.kulturartour.de
X-WR-CALDESC:Veranstaltungen für Kultur-Artour - Kulturkalender am Oberrhein &amp; Schwarzwald - Online Magazin
BEGIN:VTIMEZONE
TZID:Europe/Berlin
BEGIN:DAYLIGHT
TZOFFSETFROM:+0100
TZOFFSETTO:+0200
TZNAME:CEST
DTSTART:20260329T010000
END:DAYLIGHT
BEGIN:STANDARD
TZOFFSETFROM:+0200
TZOFFSETTO:+0100
TZNAME:CET
DTSTART:20261025T010000
END:STANDARD
END:VTIMEZONE
BEGIN:VEVENT
DTSTART;TZID=Europe/Berlin:20260503T170000
DTEND;TZID=Europe/Berlin:20260503T170000
DTSTAMP:20260422T112711
CREATED:20260420T171215Z
LAST-MODIFIED:20260420T171743Z
UID:195444-1777827600-1777827600@www.kulturartour.de
SUMMARY:Weltklassik am Klavier! - es spielt Seunglee Yang
DESCRIPTION:Das Programm:\nRobert Schumann (1810–1856)\nArabeske\, op. 18 \nFrédéric Chopin (1810–1849)\nBallade Nr. 4\, op. 52 \nFrédéric Chopin (1810–1849)\nBallade Nr. 1\, op. 23 \nFrédéric Chopin (1810–1849)\nScherzo Nr. 4\, op. 54 \n— Pause — \nFranz Liszt (1811–1886)\nKlaviersonate h-Moll\, S. 178 \nI. Lento assai – Allegro energico \nII. Andante sostenuto \nIII. Allegro energico \nIV. Andante sostenuto – Lento assai
URL:https://www.kulturartour.de/event/weltklassik-klavier-henley-jun-2-2/
LOCATION:Gengenbach\, Stadthalle am Nollen\, Gengenbach\, Deutschland
CATEGORIES:Konzerte
END:VEVENT
END:VCALENDAR