BEGIN:VCALENDAR
VERSION:2.0
PRODID:-//Kultur-Artour - Kulturkalender am Oberrhein &amp; Schwarzwald - Online Magazin - ECPv5.9.0//NONSGML v1.0//EN
CALSCALE:GREGORIAN
METHOD:PUBLISH
X-WR-CALNAME:Kultur-Artour - Kulturkalender am Oberrhein &amp; Schwarzwald - Online Magazin
X-ORIGINAL-URL:https://www.kulturartour.de
X-WR-CALDESC:Veranstaltungen für Kultur-Artour - Kulturkalender am Oberrhein &amp; Schwarzwald - Online Magazin
BEGIN:VTIMEZONE
TZID:Europe/Berlin
BEGIN:DAYLIGHT
TZOFFSETFROM:+0100
TZOFFSETTO:+0200
TZNAME:CEST
DTSTART:20260329T010000
END:DAYLIGHT
BEGIN:STANDARD
TZOFFSETFROM:+0200
TZOFFSETTO:+0100
TZNAME:CET
DTSTART:20261025T010000
END:STANDARD
END:VTIMEZONE
BEGIN:VEVENT
DTSTART;TZID=Europe/Berlin:20260801T100000
DTEND;TZID=Europe/Berlin:20260801T180000
DTSTAMP:20260425T053340
CREATED:20260305T115942Z
LAST-MODIFIED:20260305T115942Z
UID:192901-1785578400-1785607200@www.kulturartour.de
SUMMARY:Wanderkonzerte mit dem Maulbronner Kammerchor "Kloster Maulbronn und Umgebung" - Start Kreuzganggarten - auch 2.8. ab 10h30
DESCRIPTION:
URL:https://www.kulturartour.de/event/wanderkonzerte-maulbronner-kammerchor-kloster/
LOCATION:Maulbronn\, Kreuzganggarten\, Maulbronn\, Deutschland
CATEGORIES:Konzerte
GEO:48.9977576;8.8031319
END:VEVENT
END:VCALENDAR