BEGIN:VCALENDAR
VERSION:2.0
PRODID:-//Kultur-Artour - Kulturkalender am Oberrhein &amp; Schwarzwald - Online Magazin - ECPv5.9.0//NONSGML v1.0//EN
CALSCALE:GREGORIAN
METHOD:PUBLISH
X-WR-CALNAME:Kultur-Artour - Kulturkalender am Oberrhein &amp; Schwarzwald - Online Magazin
X-ORIGINAL-URL:https://www.kulturartour.de
X-WR-CALDESC:Veranstaltungen für Kultur-Artour - Kulturkalender am Oberrhein &amp; Schwarzwald - Online Magazin
BEGIN:VTIMEZONE
TZID:Europe/Berlin
BEGIN:DAYLIGHT
TZOFFSETFROM:+0100
TZOFFSETTO:+0200
TZNAME:CEST
DTSTART:20260329T010000
END:DAYLIGHT
BEGIN:STANDARD
TZOFFSETFROM:+0200
TZOFFSETTO:+0100
TZNAME:CET
DTSTART:20261025T010000
END:STANDARD
END:VTIMEZONE
BEGIN:VEVENT
DTSTART;TZID=Europe/Berlin:20260426T190000
DTEND;TZID=Europe/Berlin:20260426T213000
DTSTAMP:20260425T061920
CREATED:20260423T081954Z
LAST-MODIFIED:20260423T083956Z
UID:195547-1777230000-1777239000@www.kulturartour.de
SUMMARY:WALPURGISNACHT
DESCRIPTION:Enjott Schneider: Schwarzwald-Saga\nFelix Mendelssohn-Bartholdy: Die erste Walpurgisnacht \nmit:\nAnna Bachleitner\, Alt\nMarcus Elsässer\, Tenor\nThomas Laske\, Bass\nVillinger Kantorei\nCamerata Viva Tübingen\nThomas Haverkamp\, Leitung
URL:https://www.kulturartour.de/event/walpurgisnacht/
LOCATION:VS – Villingen\, Franziskaner Konzerthaus\, VS - Villingen\, Deutschland
CATEGORIES:Konzerte
ORGANIZER;CN="Evang.%20Kirchengemeinde%20Villingen%20-%20Kirchenmusik":MAILTO:maria-isabel.stange@kbz.ekiba.de
END:VEVENT
END:VCALENDAR