BEGIN:VCALENDAR
VERSION:2.0
PRODID:-//Kultur-Artour - Kulturkalender am Oberrhein &amp; Schwarzwald - Online Magazin - ECPv5.9.0//NONSGML v1.0//EN
CALSCALE:GREGORIAN
METHOD:PUBLISH
X-WR-CALNAME:Kultur-Artour - Kulturkalender am Oberrhein &amp; Schwarzwald - Online Magazin
X-ORIGINAL-URL:https://www.kulturartour.de
X-WR-CALDESC:Veranstaltungen für Kultur-Artour - Kulturkalender am Oberrhein &amp; Schwarzwald - Online Magazin
BEGIN:VTIMEZONE
TZID:Europe/Berlin
BEGIN:DAYLIGHT
TZOFFSETFROM:+0100
TZOFFSETTO:+0200
TZNAME:CEST
DTSTART:20260329T010000
END:DAYLIGHT
BEGIN:STANDARD
TZOFFSETFROM:+0200
TZOFFSETTO:+0100
TZNAME:CET
DTSTART:20261025T010000
END:STANDARD
END:VTIMEZONE
BEGIN:VEVENT
DTSTART;TZID=Europe/Berlin:20260512T190000
DTEND;TZID=Europe/Berlin:20260512T203000
DTSTAMP:20260423T051208
CREATED:20260422T093122Z
LAST-MODIFIED:20260422T093122Z
UID:195516-1778612400-1778617800@www.kulturartour.de
SUMMARY:Vom Schweigen zum Sprechen - Stadtbibliothek Baden-Baden
DESCRIPTION:Vortrag von Edwin Warkentin zur Literatur Russlanddeutscher Autorinnen und Autoren \n\n\nDie Literatur der Russlanddeutschen ist von Brüchen\, Verlusten und Neuanfängen geprägt. Der Vortrag „Vom Schweigen zum Sprechen“ zeichnet ihre Entwicklung nach – von eingeschränkten Ausdrucksmöglichkeiten in der Sowjetunion bis zur vielfältigen Gegenwartsliteratur in Deutschland. \nVor der Aussiedlung bestimmten politische Repressionen das literarische Schaffen; vieles ging verloren\, kurze Formen blieben oft die einzig mögliche Ausdrucksform. Auch die deutsche Sprachbindung nahm stark ab. Mit der Migration wurde Schreiben zu einem Mittel der Selbstvergewisserung\, geprägt von Themen wie Identität\, Erinnerung und Zugehörigkeit. \nHeute zeigt sich eine vielstimmige Literaturlandschaft: zwischen historischer Aufarbeitung von Verfolgung und Migration sowie postmigrantischen Perspektiven auf Gegenwart und Sprache. \nReferent ist Edwin Warkentin aus Detmold\, Leiter des Kulturreferats für Russlanddeutsche am Museum für Russlanddeutsche Kulturgeschichte.\nEr gibt einen Überblick über zentrale Entwicklungen und aktuelle Tendenzen.
URL:https://www.kulturartour.de/event/vom-schweigen-sprechen-stadtbibliothek/
LOCATION:Baden-Baden\, Stadtbibliothek\, Luisenstr. 34\, Baden-Baden\, Baden-Württemberg\, 76530\, Deutschland
CATEGORIES:Literatur Führungen Vorträge
ORGANIZER;CN="Baden-Badener%20Bibliotheksgesellschaft%20e.V.":MAILTO:stadtbibliothek@baden-baden.de
GEO:48.7636001;8.2368811
X-APPLE-STRUCTURED-LOCATION;VALUE=URI;X-ADDRESS=Baden-Baden Stadtbibliothek Luisenstr. 34 Baden-Baden Baden-Württemberg 76530 Deutschland;X-APPLE-RADIUS=500;X-TITLE=Luisenstr. 34:geo:8.2368811,48.7636001
END:VEVENT
END:VCALENDAR