BEGIN:VCALENDAR
VERSION:2.0
PRODID:-//Kultur-Artour - Kulturkalender am Oberrhein &amp; Schwarzwald - Online Magazin - ECPv5.9.0//NONSGML v1.0//EN
CALSCALE:GREGORIAN
METHOD:PUBLISH
X-WR-CALNAME:Kultur-Artour - Kulturkalender am Oberrhein &amp; Schwarzwald - Online Magazin
X-ORIGINAL-URL:https://www.kulturartour.de
X-WR-CALDESC:Veranstaltungen für Kultur-Artour - Kulturkalender am Oberrhein &amp; Schwarzwald - Online Magazin
BEGIN:VTIMEZONE
TZID:Europe/Berlin
BEGIN:DAYLIGHT
TZOFFSETFROM:+0100
TZOFFSETTO:+0200
TZNAME:CEST
DTSTART:20260329T010000
END:DAYLIGHT
BEGIN:STANDARD
TZOFFSETFROM:+0200
TZOFFSETTO:+0100
TZNAME:CET
DTSTART:20261025T010000
END:STANDARD
END:VTIMEZONE
BEGIN:VEVENT
DTSTART;TZID=Europe/Berlin:20260625T170000
DTEND;TZID=Europe/Berlin:20260625T210000
DTSTAMP:20260423T233702
CREATED:20260219T213724Z
LAST-MODIFIED:20260219T213816Z
UID:192319-1782406800-1782421200@www.kulturartour.de
SUMMARY:Villinger Abendflair
DESCRIPTION:Das Villinger Abendflair bringt Leben in die Innenstadt – und zwar genau dort\, wo man es nicht erwartet: in den charmanten Nebenlagen – von der Brunnenstraße bis zur Paradiesgasse.\nAm 25. Juni und 9. Juli laden lokale Geschäfte\, Gastronomiebetriebe und Kulturschaffende zum Abendshopping mit langen Öffnungszeiten des teilnehmenden Handels\, Verweilen und Genießen ein. \nFreuen Sie sich auf erfrischende Getränke\, leckeres Essen\, Live-Musik und liebevoll dekorierte Straßen. Jeder Abend hat seinen eigenen Charakter – gemeinsam schaffen sie ein stimmungsvolles Feierabend-Erlebnis mit Herz für die Region.
URL:https://www.kulturartour.de/event/villinger-abendflair/2026-06-25/
LOCATION:VS-Villingen\, Münsterplatz\, Münsterplatz\, 78050 Villingen-Schwenningen\, 78050\, Deutschland
CATEGORIES:Feste Messen Märkte Infos
ORGANIZER;CN="WIR%20Villingen-Schwenningen%20GmbH":MAILTO:events@villingen-schwenningen.de
GEO:48.0601165;8.4587431
X-APPLE-STRUCTURED-LOCATION;VALUE=URI;X-ADDRESS=VS-Villingen Münsterplatz Münsterplatz 78050 Villingen-Schwenningen 78050 Deutschland;X-APPLE-RADIUS=500;X-TITLE=Münsterplatz:geo:8.4587431,48.0601165
END:VEVENT
END:VCALENDAR