BEGIN:VCALENDAR
VERSION:2.0
PRODID:-//Kultur-Artour - Kulturkalender am Oberrhein &amp; Schwarzwald - Online Magazin - ECPv5.9.0//NONSGML v1.0//EN
CALSCALE:GREGORIAN
METHOD:PUBLISH
X-WR-CALNAME:Kultur-Artour - Kulturkalender am Oberrhein &amp; Schwarzwald - Online Magazin
X-ORIGINAL-URL:https://www.kulturartour.de
X-WR-CALDESC:Veranstaltungen für Kultur-Artour - Kulturkalender am Oberrhein &amp; Schwarzwald - Online Magazin
BEGIN:VTIMEZONE
TZID:Europe/Berlin
BEGIN:DAYLIGHT
TZOFFSETFROM:+0100
TZOFFSETTO:+0200
TZNAME:CEST
DTSTART:20250330T010000
END:DAYLIGHT
BEGIN:STANDARD
TZOFFSETFROM:+0200
TZOFFSETTO:+0100
TZNAME:CET
DTSTART:20251026T010000
END:STANDARD
BEGIN:DAYLIGHT
TZOFFSETFROM:+0100
TZOFFSETTO:+0200
TZNAME:CEST
DTSTART:20260329T010000
END:DAYLIGHT
BEGIN:STANDARD
TZOFFSETFROM:+0200
TZOFFSETTO:+0100
TZNAME:CET
DTSTART:20261025T010000
END:STANDARD
END:VTIMEZONE
BEGIN:VEVENT
DTSTART;VALUE=DATE:20250605
DTEND;VALUE=DATE:20260413
DTSTAMP:20260422T154742
CREATED:20251020T205537Z
LAST-MODIFIED:20251020T205537Z
UID:184115-1749081600-1776038399@www.kulturartour.de
SUMMARY:"Versammelt" - Naturkundemuseum Karlsruhe
DESCRIPTION:Sammeln\, Sammlung — Versammelt! \nDie Große Sonderausstellung wirft einen ungewöhnlichen Blick auf die Sammlungen des Museums. Sie präsentiert ausgewählte Objekte aus den Magazinen – Objekte\, die aus verschiedenen Gründen meist nicht in den Ausstellungen zu sehen sind. In unerwarteten Versammlungen erzählen sie uns Geschichten über ihre Herkunft\, ihre Eigenschaften und ihre Bedeutung.
URL:https://www.kulturartour.de/event/versammelt-naturkundemuseum-karlsruhe/
LOCATION:Karlsruhe\, Naturkundemuseum\, Karlsruhe\, Deutschland
CATEGORIES:Ausstellungen
END:VEVENT
END:VCALENDAR