BEGIN:VCALENDAR
VERSION:2.0
PRODID:-//Kultur-Artour - Kulturkalender am Oberrhein &amp; Schwarzwald - Online Magazin - ECPv5.9.0//NONSGML v1.0//EN
CALSCALE:GREGORIAN
METHOD:PUBLISH
X-WR-CALNAME:Kultur-Artour - Kulturkalender am Oberrhein &amp; Schwarzwald - Online Magazin
X-ORIGINAL-URL:https://www.kulturartour.de
X-WR-CALDESC:Veranstaltungen für Kultur-Artour - Kulturkalender am Oberrhein &amp; Schwarzwald - Online Magazin
BEGIN:VTIMEZONE
TZID:Europe/Berlin
BEGIN:DAYLIGHT
TZOFFSETFROM:+0100
TZOFFSETTO:+0200
TZNAME:CEST
DTSTART:20260329T010000
END:DAYLIGHT
BEGIN:STANDARD
TZOFFSETFROM:+0200
TZOFFSETTO:+0100
TZNAME:CET
DTSTART:20261025T010000
END:STANDARD
END:VTIMEZONE
BEGIN:VEVENT
DTSTART;TZID=Europe/Berlin:20260531T200000
DTEND;TZID=Europe/Berlin:20260531T223000
DTSTAMP:20260424T032043
CREATED:20260216T195339Z
LAST-MODIFIED:20260216T195519Z
UID:192215-1780257600-1780266600@www.kulturartour.de
SUMMARY:The World Famous Glenn Miller Orchestra directed by Uli Plettendorff
DESCRIPTION:Glenn Miller Orchestra directed by Uli Plettendorff\nThe Licensed Orchestra for Europe with permission and authority of Glenn Miller Productions\, Inc. New York\, USA. \nBei dem Programm „SWING FOREVER“ dreht sich alles um die unvergessliche Musik von Glenn Miller\, der zu Lebzeiten mit seinem einzigartigen Sound untrennbar mit der Big Band Ära verbunden war. \nDie Show bietet nicht nur instrumentale Meisterwerke\, sondern legt auch großen Wert auf den vokalen Teil. Die talentierte Bandsängerin sowie die fünfstimmige Vocalgroup „Moonlight Serenaders“\, inspiriert von den Modernaires\, sorgen für weitere Höhepunkte der Show und laden dazu ein\, in die goldenen Zeiten vergangener Jahrzehnte einzutauchen. \nErleben Sie eine grandiose Show im Sweet- und Swing-Sound. \nTIckets: Tourist-Info Bühlertal und an allen bekannten Vorverkaufsstellen.\nPhone +49 61 85 / 81 86 22\nwww.glenn-miller.de \n 
URL:https://www.kulturartour.de/event/the-world-famous-glenn-2/
LOCATION:Bühlertal\, Haus des Gastes\, Hauptstraße 94\, Bühlertal\, Baden-Württemberg\, 77830\, Deutschland
CATEGORIES:Jazz und Weltmusik,Konzerte
ORGANIZER;CN="Schmidt%20%26%20Salden%20GmbH%20%26%20Co%20Event%20KG":MAILTO:info@glenn-miller.de
END:VEVENT
END:VCALENDAR