BEGIN:VCALENDAR
VERSION:2.0
PRODID:-//Kultur-Artour - Kulturkalender am Oberrhein &amp; Schwarzwald - Online Magazin - ECPv5.9.0//NONSGML v1.0//EN
CALSCALE:GREGORIAN
METHOD:PUBLISH
X-WR-CALNAME:Kultur-Artour - Kulturkalender am Oberrhein &amp; Schwarzwald - Online Magazin
X-ORIGINAL-URL:https://www.kulturartour.de
X-WR-CALDESC:Veranstaltungen für Kultur-Artour - Kulturkalender am Oberrhein &amp; Schwarzwald - Online Magazin
BEGIN:VTIMEZONE
TZID:Europe/Berlin
BEGIN:DAYLIGHT
TZOFFSETFROM:+0100
TZOFFSETTO:+0200
TZNAME:CEST
DTSTART:20260329T010000
END:DAYLIGHT
BEGIN:STANDARD
TZOFFSETFROM:+0200
TZOFFSETTO:+0100
TZNAME:CET
DTSTART:20261025T010000
END:STANDARD
END:VTIMEZONE
BEGIN:VEVENT
DTSTART;TZID=Europe/Berlin:20260425T200000
DTEND;TZID=Europe/Berlin:20260425T200000
DTSTAMP:20260421T185203
CREATED:20260419T191903Z
LAST-MODIFIED:20260419T191903Z
UID:195432-1777147200-1777147200@www.kulturartour.de
SUMMARY:Tanz- und Körpertheater Performance Arts „REFLEKTION. Duft der Zeit“
DESCRIPTION:
URL:https://www.kulturartour.de/event/tanz-koerpertheater-performance-arts/
LOCATION:Lahr\, Stiftsschaffneikeller
CATEGORIES:Schauspiel,Tanz und Ballett
END:VEVENT
END:VCALENDAR