BEGIN:VCALENDAR
VERSION:2.0
PRODID:-//Kultur-Artour - Kulturkalender am Oberrhein &amp; Schwarzwald - Online Magazin - ECPv5.9.0//NONSGML v1.0//EN
CALSCALE:GREGORIAN
METHOD:PUBLISH
X-WR-CALNAME:Kultur-Artour - Kulturkalender am Oberrhein &amp; Schwarzwald - Online Magazin
X-ORIGINAL-URL:https://www.kulturartour.de
X-WR-CALDESC:Veranstaltungen für Kultur-Artour - Kulturkalender am Oberrhein &amp; Schwarzwald - Online Magazin
BEGIN:VTIMEZONE
TZID:Europe/Berlin
BEGIN:DAYLIGHT
TZOFFSETFROM:+0100
TZOFFSETTO:+0200
TZNAME:CEST
DTSTART:20260329T010000
END:DAYLIGHT
BEGIN:STANDARD
TZOFFSETFROM:+0200
TZOFFSETTO:+0100
TZNAME:CET
DTSTART:20261025T010000
END:STANDARD
END:VTIMEZONE
BEGIN:VEVENT
DTSTART;TZID=Europe/Berlin:20260530T200000
DTEND;TZID=Europe/Berlin:20260530T200000
DTSTAMP:20260424T014802
CREATED:20260330T151007Z
LAST-MODIFIED:20260330T151007Z
UID:194181-1780171200-1780171200@www.kulturartour.de
SUMMARY:SWR Symphonieorchester & Nils Landgren (zum 70. Geburtstag)
DESCRIPTION:
URL:https://www.kulturartour.de/event/swr-symphonieorchester-nils-landgren/
LOCATION:Baden-Baden\, Festspielhaus\, Baden-Baden\, Deutschland
CATEGORIES:Jazz und Weltmusik
END:VEVENT
END:VCALENDAR