BEGIN:VCALENDAR
VERSION:2.0
PRODID:-//Kultur-Artour - Kulturkalender am Oberrhein &amp; Schwarzwald - Online Magazin - ECPv5.9.0//NONSGML v1.0//EN
CALSCALE:GREGORIAN
METHOD:PUBLISH
X-WR-CALNAME:Kultur-Artour - Kulturkalender am Oberrhein &amp; Schwarzwald - Online Magazin
X-ORIGINAL-URL:https://www.kulturartour.de
X-WR-CALDESC:Veranstaltungen für Kultur-Artour - Kulturkalender am Oberrhein &amp; Schwarzwald - Online Magazin
BEGIN:VTIMEZONE
TZID:Europe/Berlin
BEGIN:DAYLIGHT
TZOFFSETFROM:+0100
TZOFFSETTO:+0200
TZNAME:CEST
DTSTART:20260329T010000
END:DAYLIGHT
BEGIN:STANDARD
TZOFFSETFROM:+0200
TZOFFSETTO:+0100
TZNAME:CET
DTSTART:20261025T010000
END:STANDARD
END:VTIMEZONE
BEGIN:VEVENT
DTSTART;VALUE=DATE:20260508
DTEND;VALUE=DATE:20260629
DTSTAMP:20260420T124602
CREATED:20260106T115409Z
LAST-MODIFIED:20260106T115409Z
UID:188254-1778198400-1782691199@www.kulturartour.de
SUMMARY:Silke Wellmeier (Tecklenburg) - Lebensräume
DESCRIPTION:
URL:https://www.kulturartour.de/event/silke-wellmeier-tecklenburg-lebensraeume/
LOCATION:Staufen\, Keramikmuseum\, Staufen\, Deutschland
CATEGORIES:Ausstellungen
END:VEVENT
END:VCALENDAR