BEGIN:VCALENDAR
VERSION:2.0
PRODID:-//Kultur-Artour - Kulturkalender am Oberrhein &amp; Schwarzwald - Online Magazin - ECPv5.9.0//NONSGML v1.0//EN
CALSCALE:GREGORIAN
METHOD:PUBLISH
X-WR-CALNAME:Kultur-Artour - Kulturkalender am Oberrhein &amp; Schwarzwald - Online Magazin
X-ORIGINAL-URL:https://www.kulturartour.de
X-WR-CALDESC:Veranstaltungen für Kultur-Artour - Kulturkalender am Oberrhein &amp; Schwarzwald - Online Magazin
BEGIN:VTIMEZONE
TZID:Europe/Berlin
BEGIN:DAYLIGHT
TZOFFSETFROM:+0100
TZOFFSETTO:+0200
TZNAME:CEST
DTSTART:20260329T010000
END:DAYLIGHT
BEGIN:STANDARD
TZOFFSETFROM:+0200
TZOFFSETTO:+0100
TZNAME:CET
DTSTART:20261025T010000
END:STANDARD
END:VTIMEZONE
BEGIN:VEVENT
DTSTART;TZID=Europe/Berlin:20260507T200000
DTEND;TZID=Europe/Berlin:20260507T200000
DTSTAMP:20260422T160218
CREATED:20260422T104953Z
LAST-MODIFIED:20260422T105002Z
UID:195523-1778184000-1778184000@www.kulturartour.de
SUMMARY:„Seltene Erden – Sound of Nature Writing“
DESCRIPTION:Jazzige Klänge und Worte zwischen Schönheit und Zerbrechlichkeit
URL:https://www.kulturartour.de/event/seltene-erden-sound-nature-2/
LOCATION:VS – Villingen\, Franziskaner Konzerthaus\, VS - Villingen\, Deutschland
CATEGORIES:Jazz und Weltmusik
END:VEVENT
END:VCALENDAR