BEGIN:VCALENDAR
VERSION:2.0
PRODID:-//Kultur-Artour - Kulturkalender am Oberrhein &amp; Schwarzwald - Online Magazin - ECPv5.9.0//NONSGML v1.0//EN
CALSCALE:GREGORIAN
METHOD:PUBLISH
X-WR-CALNAME:Kultur-Artour - Kulturkalender am Oberrhein &amp; Schwarzwald - Online Magazin
X-ORIGINAL-URL:https://www.kulturartour.de
X-WR-CALDESC:Veranstaltungen für Kultur-Artour - Kulturkalender am Oberrhein &amp; Schwarzwald - Online Magazin
BEGIN:VTIMEZONE
TZID:Europe/Berlin
BEGIN:DAYLIGHT
TZOFFSETFROM:+0100
TZOFFSETTO:+0200
TZNAME:CEST
DTSTART:20260329T010000
END:DAYLIGHT
BEGIN:STANDARD
TZOFFSETFROM:+0200
TZOFFSETTO:+0100
TZNAME:CET
DTSTART:20261025T010000
END:STANDARD
END:VTIMEZONE
BEGIN:VEVENT
DTSTART;TZID=Europe/Berlin:20260718T200000
DTEND;TZID=Europe/Berlin:20260718T200000
DTSTAMP:20260421T135306
CREATED:20260419T105903Z
LAST-MODIFIED:20260419T105903Z
UID:195415-1784404800-1784404800@www.kulturartour.de
SUMMARY:Philharmonie am Forum\, Leit: Rolf Schilli\, Werke v. Mendelssohn Bartholdy\, Mozart\, Mussorgsky - auch 18.7. um 20h
DESCRIPTION:
URL:https://www.kulturartour.de/event/philharmonie-forum-leit-rolf/2026-07-18/
LOCATION:Offenburg\, Platz der Verfassungsfreunde\, Offenburg\, Deutschland
CATEGORIES:Konzerte
GEO:48.473451;7.9498017
END:VEVENT
END:VCALENDAR