BEGIN:VCALENDAR
VERSION:2.0
PRODID:-//Kultur-Artour - Kulturkalender am Oberrhein &amp; Schwarzwald - Online Magazin - ECPv5.9.0//NONSGML v1.0//EN
CALSCALE:GREGORIAN
METHOD:PUBLISH
X-WR-CALNAME:Kultur-Artour - Kulturkalender am Oberrhein &amp; Schwarzwald - Online Magazin
X-ORIGINAL-URL:https://www.kulturartour.de
X-WR-CALDESC:Veranstaltungen für Kultur-Artour - Kulturkalender am Oberrhein &amp; Schwarzwald - Online Magazin
BEGIN:VTIMEZONE
TZID:Europe/Berlin
BEGIN:DAYLIGHT
TZOFFSETFROM:+0100
TZOFFSETTO:+0200
TZNAME:CEST
DTSTART:20200329T010000
END:DAYLIGHT
BEGIN:STANDARD
TZOFFSETFROM:+0200
TZOFFSETTO:+0100
TZNAME:CET
DTSTART:20201025T010000
END:STANDARD
END:VTIMEZONE
BEGIN:VEVENT
DTSTART;TZID=Europe/Berlin:20201002T200000
DTEND;TZID=Europe/Berlin:20201002T200000
DTSTAMP:20260420T001956
CREATED:20200725T111708Z
LAST-MODIFIED:20200725T111708Z
UID:75962-1601668800-1601668800@www.kulturartour.de
SUMMARY:"Oifach ferdig"
DESCRIPTION:Karlsruher Schwank von Hans-Rüdiger Kueich – auch 3.\, 9.\, 10.\, 16.\, 17.\, 23. + 24.10.\, jeweils um 20h
URL:https://www.kulturartour.de/event/oifach-ferdig/2020-10-02/
LOCATION:Karlsruhe\, Badisch Bühn\, Karlsruhe\, Deutschland
END:VEVENT
END:VCALENDAR