BEGIN:VCALENDAR
VERSION:2.0
PRODID:-//Kultur-Artour - Kulturkalender am Oberrhein &amp; Schwarzwald - Online Magazin - ECPv5.9.0//NONSGML v1.0//EN
CALSCALE:GREGORIAN
METHOD:PUBLISH
X-WR-CALNAME:Kultur-Artour - Kulturkalender am Oberrhein &amp; Schwarzwald - Online Magazin
X-ORIGINAL-URL:https://www.kulturartour.de
X-WR-CALDESC:Veranstaltungen für Kultur-Artour - Kulturkalender am Oberrhein &amp; Schwarzwald - Online Magazin
BEGIN:VTIMEZONE
TZID:Europe/Berlin
BEGIN:DAYLIGHT
TZOFFSETFROM:+0100
TZOFFSETTO:+0200
TZNAME:CEST
DTSTART:20260329T010000
END:DAYLIGHT
BEGIN:STANDARD
TZOFFSETFROM:+0200
TZOFFSETTO:+0100
TZNAME:CET
DTSTART:20261025T010000
END:STANDARD
END:VTIMEZONE
BEGIN:VEVENT
DTSTART;TZID=Europe/Berlin:20260503T203000
DTEND;TZID=Europe/Berlin:20260503T203000
DTSTAMP:20260426T044441
CREATED:20260120T112105Z
LAST-MODIFIED:20260120T112105Z
UID:190022-1777840200-1777840200@www.kulturartour.de
SUMMARY:Nubya Garcia & Band
DESCRIPTION:
URL:https://www.kulturartour.de/event/nubya-garcia-band/
LOCATION:Basel\, Kaserne\, Basel\, Schweiz
CATEGORIES:Jazz und Weltmusik
END:VEVENT
END:VCALENDAR