BEGIN:VCALENDAR
VERSION:2.0
PRODID:-//Kultur-Artour - Kulturkalender am Oberrhein &amp; Schwarzwald - Online Magazin - ECPv5.9.0//NONSGML v1.0//EN
CALSCALE:GREGORIAN
METHOD:PUBLISH
X-WR-CALNAME:Kultur-Artour - Kulturkalender am Oberrhein &amp; Schwarzwald - Online Magazin
X-ORIGINAL-URL:https://www.kulturartour.de
X-WR-CALDESC:Veranstaltungen für Kultur-Artour - Kulturkalender am Oberrhein &amp; Schwarzwald - Online Magazin
BEGIN:VTIMEZONE
TZID:Europe/Berlin
BEGIN:DAYLIGHT
TZOFFSETFROM:+0100
TZOFFSETTO:+0200
TZNAME:CEST
DTSTART:20260329T010000
END:DAYLIGHT
BEGIN:STANDARD
TZOFFSETFROM:+0200
TZOFFSETTO:+0100
TZNAME:CET
DTSTART:20261025T010000
END:STANDARD
END:VTIMEZONE
BEGIN:VEVENT
DTSTART;TZID=Europe/Berlin:20260510T150000
DTEND;TZID=Europe/Berlin:20260510T150000
DTSTAMP:20260420T053933
CREATED:20260112T104847Z
LAST-MODIFIED:20260112T104847Z
UID:189255-1778425200-1778425200@www.kulturartour.de
SUMMARY:"Muggli\, de Waldtroll" - Theater Fabulosia - auch 10.5. um 15h
DESCRIPTION:
URL:https://www.kulturartour.de/event/muggli-waldtroll-theater-fabulosia/2026-05-10/
LOCATION:Basel\, Marionettentheater\, Basel\, Baden-Württemberg\, Schweiz
CATEGORIES:Junge Bühne
GEO:47.5595986;7.5885761
END:VEVENT
END:VCALENDAR