BEGIN:VCALENDAR
VERSION:2.0
PRODID:-//Kultur-Artour - Kulturkalender am Oberrhein &amp; Schwarzwald - Online Magazin - ECPv5.9.0//NONSGML v1.0//EN
CALSCALE:GREGORIAN
METHOD:PUBLISH
X-WR-CALNAME:Kultur-Artour - Kulturkalender am Oberrhein &amp; Schwarzwald - Online Magazin
X-ORIGINAL-URL:https://www.kulturartour.de
X-WR-CALDESC:Veranstaltungen für Kultur-Artour - Kulturkalender am Oberrhein &amp; Schwarzwald - Online Magazin
BEGIN:VTIMEZONE
TZID:Europe/Berlin
BEGIN:DAYLIGHT
TZOFFSETFROM:+0100
TZOFFSETTO:+0200
TZNAME:CEST
DTSTART:20260329T010000
END:DAYLIGHT
BEGIN:STANDARD
TZOFFSETFROM:+0200
TZOFFSETTO:+0100
TZNAME:CET
DTSTART:20261025T010000
END:STANDARD
END:VTIMEZONE
BEGIN:VEVENT
DTSTART;TZID=Europe/Berlin:20260422T193000
DTEND;TZID=Europe/Berlin:20260422T193000
DTSTAMP:20260425T053811
CREATED:20260308T074226Z
LAST-MODIFIED:20260308T074226Z
UID:193218-1776886200-1776886200@www.kulturartour.de
SUMMARY:Mit Rilke durch das Jahr: "Ich lerne sehen"
DESCRIPTION:Rainer Maria Rilke in Paris – aus Gedichten\, Briefen und Prosa des Dichters\nLuise Wunderlich\, Rezitation / Johannes Hustedt\, Flöte \nEintritt: 15\,00 €\, ermäßigt 10\,00 € \n„Hiersein ist herrlich.“ 2026 ist Rilke-Jahr! Rainer Maria Rilke wurde 1875 geboren und starb 1926. Ein Jahr lang mit ihm auf die Reise gehen und neugierig sein auf Augenblicke\, in denen das Herrliche des Hierseins spürbar wird. Rainer Maria Rilke ist ein Klangzauberer der deutschen Sprache\, ein Meister der Bilder.
URL:https://www.kulturartour.de/event/mit-rilke-jahr-ich/
LOCATION:Karlsruhe\, Kleine Kirche\, Kaiserstrasse 131\, Karlsruhe\, 76133\, Deutschland
CATEGORIES:Konzerte,Literatur Führungen Vorträge
GEO:49.0092007;8.4053784
X-APPLE-STRUCTURED-LOCATION;VALUE=URI;X-ADDRESS=Karlsruhe Kleine Kirche Kaiserstrasse 131 Karlsruhe 76133 Deutschland;X-APPLE-RADIUS=500;X-TITLE=Kaiserstrasse 131:geo:8.4053784,49.0092007
END:VEVENT
END:VCALENDAR