BEGIN:VCALENDAR
VERSION:2.0
PRODID:-//Kultur-Artour - Kulturkalender am Oberrhein &amp; Schwarzwald - Online Magazin - ECPv5.9.0//NONSGML v1.0//EN
CALSCALE:GREGORIAN
METHOD:PUBLISH
X-WR-CALNAME:Kultur-Artour - Kulturkalender am Oberrhein &amp; Schwarzwald - Online Magazin
X-ORIGINAL-URL:https://www.kulturartour.de
X-WR-CALDESC:Veranstaltungen für Kultur-Artour - Kulturkalender am Oberrhein &amp; Schwarzwald - Online Magazin
BEGIN:VTIMEZONE
TZID:Europe/Berlin
BEGIN:DAYLIGHT
TZOFFSETFROM:+0100
TZOFFSETTO:+0200
TZNAME:CEST
DTSTART:20260329T010000
END:DAYLIGHT
BEGIN:STANDARD
TZOFFSETFROM:+0200
TZOFFSETTO:+0100
TZNAME:CET
DTSTART:20261025T010000
END:STANDARD
END:VTIMEZONE
BEGIN:VEVENT
DTSTART;TZID=Europe/Berlin:20260704T170000
DTEND;TZID=Europe/Berlin:20260704T170000
DTSTAMP:20260420T022813
CREATED:20260418T214127Z
LAST-MODIFIED:20260418T214128Z
UID:195377-1783184400-1783184400@www.kulturartour.de
SUMMARY:Sommertheater im Bockshof: Die Bremer Stadtmusikanten
DESCRIPTION:Frei improvisiert von dem Clown Raphael Bantle\, dem Cellisten Benjamin Coyte und dem Regisseur und Autor Peter Staatsmann \nTermine: \nSa.\, 27.06. – Premiere\nSo.\, 28.06.\nSa.\, 04.07.\nSo.\, 05.07.\nSo.\, 12.07.\nFr.\,  17.07.\nSa.\, 18.07.\nSo.\, 19.07.\nSa.\, 25.07.\nSo.\, 26.07.\nSa.\, 01.08.\nSo.\, 02.08.\nSa.\, 08.08.\nSo.\, 09.08.
URL:https://www.kulturartour.de/event/mit-liebe-plan-improtheater-2-2/2026-07-04/
LOCATION:Rottweil\, Zimmertheater\, Friedrichsplatz 2\, Rottweil\, 78628\, Deutschland
CATEGORIES:Schauspiel
GEO:48.1681943;8.6272998
X-APPLE-STRUCTURED-LOCATION;VALUE=URI;X-ADDRESS=Rottweil Zimmertheater Friedrichsplatz 2 Rottweil 78628 Deutschland;X-APPLE-RADIUS=500;X-TITLE=Friedrichsplatz 2:geo:8.6272998,48.1681943
END:VEVENT
END:VCALENDAR