BEGIN:VCALENDAR
VERSION:2.0
PRODID:-//Kultur-Artour - Kulturkalender am Oberrhein &amp; Schwarzwald - Online Magazin - ECPv5.9.0//NONSGML v1.0//EN
CALSCALE:GREGORIAN
METHOD:PUBLISH
X-WR-CALNAME:Kultur-Artour - Kulturkalender am Oberrhein &amp; Schwarzwald - Online Magazin
X-ORIGINAL-URL:https://www.kulturartour.de
X-WR-CALDESC:Veranstaltungen für Kultur-Artour - Kulturkalender am Oberrhein &amp; Schwarzwald - Online Magazin
BEGIN:VTIMEZONE
TZID:Europe/Berlin
BEGIN:DAYLIGHT
TZOFFSETFROM:+0100
TZOFFSETTO:+0200
TZNAME:CEST
DTSTART:20260329T010000
END:DAYLIGHT
BEGIN:STANDARD
TZOFFSETFROM:+0200
TZOFFSETTO:+0100
TZNAME:CET
DTSTART:20261025T010000
END:STANDARD
END:VTIMEZONE
BEGIN:VEVENT
DTSTART;VALUE=DATE:20260417
DTEND;VALUE=DATE:20260627
DTSTAMP:20260423T110559
CREATED:20260413T105025Z
LAST-MODIFIED:20260413T105311Z
UID:194557-1776384000-1782518399@www.kulturartour.de
SUMMARY:Miriam Huschenbeth: "Verwobene Räume"
DESCRIPTION:Mit der Eröffnung der Ausstellung “verwobene Räume” von Miriam Huschenbeth am 17. April wird die Ausstellungsreihe im Rathaus fortgesetzt. \nEröffnung der Ausstellung: 17. April\, um 19 Uhr im Bürgersaal
URL:https://www.kulturartour.de/event/miriam-huschenbeth-verwobene-raeume/
LOCATION:Furtwangen\, Rathaus\, Furtwangen\, Deutschland
CATEGORIES:Ausstellungen
GEO:48.0501442;8.2014192
END:VEVENT
END:VCALENDAR