BEGIN:VCALENDAR
VERSION:2.0
PRODID:-//Kultur-Artour - Kulturkalender am Oberrhein &amp; Schwarzwald - Online Magazin - ECPv5.9.0//NONSGML v1.0//EN
CALSCALE:GREGORIAN
METHOD:PUBLISH
X-WR-CALNAME:Kultur-Artour - Kulturkalender am Oberrhein &amp; Schwarzwald - Online Magazin
X-ORIGINAL-URL:https://www.kulturartour.de
X-WR-CALDESC:Veranstaltungen für Kultur-Artour - Kulturkalender am Oberrhein &amp; Schwarzwald - Online Magazin
BEGIN:VTIMEZONE
TZID:Europe/Berlin
BEGIN:DAYLIGHT
TZOFFSETFROM:+0100
TZOFFSETTO:+0200
TZNAME:CEST
DTSTART:20200329T010000
END:DAYLIGHT
BEGIN:STANDARD
TZOFFSETFROM:+0200
TZOFFSETTO:+0100
TZNAME:CET
DTSTART:20201025T010000
END:STANDARD
END:VTIMEZONE
BEGIN:VEVENT
DTSTART;VALUE=DATE:20200403
DTEND;VALUE=DATE:20200407
DTSTAMP:20260420T035605
CREATED:20200204T101136Z
LAST-MODIFIED:20200204T101136Z
UID:70077-1585872000-1586217599@www.kulturartour.de
SUMMARY:Mer et Vigne - Gastronomie
DESCRIPTION:
URL:https://www.kulturartour.de/event/mer-et-vigne-gastronomie/
LOCATION:Strasbourg\, PMC – Kongresszentrum\, Strasbourg\, Frankreich
GEO:48.5734053;7.7521113
END:VEVENT
END:VCALENDAR