BEGIN:VCALENDAR
VERSION:2.0
PRODID:-//Kultur-Artour - Kulturkalender am Oberrhein &amp; Schwarzwald - Online Magazin - ECPv5.9.0//NONSGML v1.0//EN
CALSCALE:GREGORIAN
METHOD:PUBLISH
X-WR-CALNAME:Kultur-Artour - Kulturkalender am Oberrhein &amp; Schwarzwald - Online Magazin
X-ORIGINAL-URL:https://www.kulturartour.de
X-WR-CALDESC:Veranstaltungen für Kultur-Artour - Kulturkalender am Oberrhein &amp; Schwarzwald - Online Magazin
BEGIN:VTIMEZONE
TZID:Europe/Berlin
BEGIN:DAYLIGHT
TZOFFSETFROM:+0100
TZOFFSETTO:+0200
TZNAME:CEST
DTSTART:20260329T010000
END:DAYLIGHT
BEGIN:STANDARD
TZOFFSETFROM:+0200
TZOFFSETTO:+0100
TZNAME:CET
DTSTART:20261025T010000
END:STANDARD
END:VTIMEZONE
BEGIN:VEVENT
DTSTART;VALUE=DATE:20260822
DTEND;VALUE=DATE:20261109
DTSTAMP:20260420T150011
CREATED:20260226T185029Z
LAST-MODIFIED:20260226T185029Z
UID:192761-1787356800-1794182399@www.kulturartour.de
SUMMARY:Emilija Škarnulytė
DESCRIPTION:In der Lokremise präsentiert Emilija Škarnulytė ihre monumentale Filminstallation Point of Arrow (2024).
URL:https://www.kulturartour.de/event/marie-schuhmann-coatings-2-2-2-2-2/
LOCATION:St. Gallen\, Lokremise\, St. Gallen\, Schweiz
CATEGORIES:Ausstellungen
END:VEVENT
END:VCALENDAR