BEGIN:VCALENDAR
VERSION:2.0
PRODID:-//Kultur-Artour - Kulturkalender am Oberrhein &amp; Schwarzwald - Online Magazin - ECPv5.9.0//NONSGML v1.0//EN
CALSCALE:GREGORIAN
METHOD:PUBLISH
X-WR-CALNAME:Kultur-Artour - Kulturkalender am Oberrhein &amp; Schwarzwald - Online Magazin
X-ORIGINAL-URL:https://www.kulturartour.de
X-WR-CALDESC:Veranstaltungen für Kultur-Artour - Kulturkalender am Oberrhein &amp; Schwarzwald - Online Magazin
BEGIN:VTIMEZONE
TZID:Europe/Berlin
BEGIN:DAYLIGHT
TZOFFSETFROM:+0100
TZOFFSETTO:+0200
TZNAME:CEST
DTSTART:20260329T010000
END:DAYLIGHT
BEGIN:STANDARD
TZOFFSETFROM:+0200
TZOFFSETTO:+0100
TZNAME:CET
DTSTART:20261025T010000
END:STANDARD
BEGIN:DAYLIGHT
TZOFFSETFROM:+0100
TZOFFSETTO:+0200
TZNAME:CEST
DTSTART:20270328T010000
END:DAYLIGHT
BEGIN:STANDARD
TZOFFSETFROM:+0200
TZOFFSETTO:+0100
TZNAME:CET
DTSTART:20271031T010000
END:STANDARD
END:VTIMEZONE
BEGIN:VEVENT
DTSTART;VALUE=DATE:20261107
DTEND;VALUE=DATE:20270322
DTSTAMP:20260421T140553
CREATED:20260226T185412Z
LAST-MODIFIED:20260226T185412Z
UID:192769-1794009600-1805673599@www.kulturartour.de
SUMMARY:Verena Merz
DESCRIPTION:Im Werk von Verena Merz (1959–1990) treffen fabelhafte Tierwesen auf abstrakte Formen und Motive des zeitgenössischen Alltags.
URL:https://www.kulturartour.de/event/marie-schuhmann-coatings-2-2-2-2-2-2-2-2-2/
LOCATION:St. Gallen\, Kunstmuseum\, St. Gallen\, Schweiz
CATEGORIES:Ausstellungen
GEO:47.4244818;9.3767173
END:VEVENT
END:VCALENDAR