BEGIN:VCALENDAR
VERSION:2.0
PRODID:-//Kultur-Artour - Kulturkalender am Oberrhein &amp; Schwarzwald - Online Magazin - ECPv5.9.0//NONSGML v1.0//EN
CALSCALE:GREGORIAN
METHOD:PUBLISH
X-WR-CALNAME:Kultur-Artour - Kulturkalender am Oberrhein &amp; Schwarzwald - Online Magazin
X-ORIGINAL-URL:https://www.kulturartour.de
X-WR-CALDESC:Veranstaltungen für Kultur-Artour - Kulturkalender am Oberrhein &amp; Schwarzwald - Online Magazin
BEGIN:VTIMEZONE
TZID:Europe/Berlin
BEGIN:DAYLIGHT
TZOFFSETFROM:+0100
TZOFFSETTO:+0200
TZNAME:CEST
DTSTART:20260329T010000
END:DAYLIGHT
BEGIN:STANDARD
TZOFFSETFROM:+0200
TZOFFSETTO:+0100
TZNAME:CET
DTSTART:20261025T010000
END:STANDARD
END:VTIMEZONE
BEGIN:VEVENT
DTSTART;VALUE=DATE:20261016
DTEND;VALUE=DATE:20261130
DTSTAMP:20260423T233400
CREATED:20260422T205150Z
LAST-MODIFIED:20260422T205150Z
UID:195540-1792108800-1795996799@www.kulturartour.de
SUMMARY:Let’s Paradise – Rita De Nigris\, Biel CH
DESCRIPTION:Plakativ\, aufrüttelnd\, hintersinnig\, humorvoll – ihre Vasen und Platten übermitteln Botschaften: HASI JUMP oder FISCH FLY – wie dem Zugriff des Menschen entkommen? HOMO HOMINI LUPUS – der Mensch ist des Menschen Wolf. Das PARADISE steht Kopf. STOP – so kann es nicht weitergehen. CARE – FUCK WAR – MORE LOVE. Nach Jahren der Lehrtätigkeit an den renommierten Ausbildungsstätten in Höhr-Grenzhausen und Bern/Biel sucht die international bekannte Keramikerin Rita de Nigris (*1964) in ihrem Atelier in Biel neue Herausforderungen.
URL:https://www.kulturartour.de/event/let-paradise-rita-de/
LOCATION:Staufen\, Keramikmuseum\, Staufen\, Deutschland
CATEGORIES:Ausstellungen
END:VEVENT
END:VCALENDAR