BEGIN:VCALENDAR
VERSION:2.0
PRODID:-//Kultur-Artour - Kulturkalender am Oberrhein &amp; Schwarzwald - Online Magazin - ECPv5.9.0//NONSGML v1.0//EN
CALSCALE:GREGORIAN
METHOD:PUBLISH
X-WR-CALNAME:Kultur-Artour - Kulturkalender am Oberrhein &amp; Schwarzwald - Online Magazin
X-ORIGINAL-URL:https://www.kulturartour.de
X-WR-CALDESC:Veranstaltungen für Kultur-Artour - Kulturkalender am Oberrhein &amp; Schwarzwald - Online Magazin
BEGIN:VTIMEZONE
TZID:Europe/Berlin
BEGIN:DAYLIGHT
TZOFFSETFROM:+0100
TZOFFSETTO:+0200
TZNAME:CEST
DTSTART:20250330T010000
END:DAYLIGHT
BEGIN:STANDARD
TZOFFSETFROM:+0200
TZOFFSETTO:+0100
TZNAME:CET
DTSTART:20251026T010000
END:STANDARD
BEGIN:DAYLIGHT
TZOFFSETFROM:+0100
TZOFFSETTO:+0200
TZNAME:CEST
DTSTART:20260329T010000
END:DAYLIGHT
BEGIN:STANDARD
TZOFFSETFROM:+0200
TZOFFSETTO:+0100
TZNAME:CET
DTSTART:20261025T010000
END:STANDARD
END:VTIMEZONE
BEGIN:VEVENT
DTSTART;VALUE=DATE:20251130
DTEND;VALUE=DATE:20260426
DTSTAMP:20260423T125407
CREATED:20251117T204812Z
LAST-MODIFIED:20251117T204812Z
UID:186397-1764460800-1777161599@www.kulturartour.de
SUMMARY:Leo Sztatecsny - "Zwischen Himmel und Erde" - Ausstellung im Schwarzwälder Skimuseum Hinterzarten
DESCRIPTION:Die Gemälde und Objekte von Sztatecsny zeigen die Landschaft als Thema. Fantasie und Naturerfahrung sind zentrale Antriebskräfte dieser Kunst\, welche die abenteuerliche Schönheit der Erde darstellen will\, aber auch ihre Vergänglichkeit und den Klimawandel thematisiert.
URL:https://www.kulturartour.de/event/leo-sztatecsny-zwischen-himmel/
LOCATION:Hinterzarten\, Schwarzwälder Skimuseum\, Erlenbrucker Str. 35\, Hinterzarten\, 79856\, Deutschland
CATEGORIES:Ausstellungen
GEO:47.898446;8.1038197
X-APPLE-STRUCTURED-LOCATION;VALUE=URI;X-ADDRESS=Hinterzarten Schwarzwälder Skimuseum Erlenbrucker Str. 35 Hinterzarten 79856 Deutschland;X-APPLE-RADIUS=500;X-TITLE=Erlenbrucker Str. 35:geo:8.1038197,47.898446
END:VEVENT
END:VCALENDAR