BEGIN:VCALENDAR
VERSION:2.0
PRODID:-//Kultur-Artour - Kulturkalender am Oberrhein &amp; Schwarzwald - Online Magazin - ECPv5.9.0//NONSGML v1.0//EN
CALSCALE:GREGORIAN
METHOD:PUBLISH
X-WR-CALNAME:Kultur-Artour - Kulturkalender am Oberrhein &amp; Schwarzwald - Online Magazin
X-ORIGINAL-URL:https://www.kulturartour.de
X-WR-CALDESC:Veranstaltungen für Kultur-Artour - Kulturkalender am Oberrhein &amp; Schwarzwald - Online Magazin
BEGIN:VTIMEZONE
TZID:Europe/Berlin
BEGIN:DAYLIGHT
TZOFFSETFROM:+0100
TZOFFSETTO:+0200
TZNAME:CEST
DTSTART:20260329T010000
END:DAYLIGHT
BEGIN:STANDARD
TZOFFSETFROM:+0200
TZOFFSETTO:+0100
TZNAME:CET
DTSTART:20261025T010000
END:STANDARD
END:VTIMEZONE
BEGIN:VEVENT
DTSTART;VALUE=DATE:20260417
DTEND;VALUE=DATE:20260713
DTSTAMP:20260424T220627
CREATED:20260123T094143Z
LAST-MODIFIED:20260123T094143Z
UID:190139-1776384000-1783900799@www.kulturartour.de
SUMMARY:Legal - Illegal. Graffiti\, Street Art & Murals im Dreiland
DESCRIPTION:
URL:https://www.kulturartour.de/event/legal-illegal-graffiti-street/
LOCATION:Lörrach\, Dreiländer-Museum\, Lörrach\, Deutschland
CATEGORIES:Ausstellungen
END:VEVENT
END:VCALENDAR