BEGIN:VCALENDAR
VERSION:2.0
PRODID:-//Kultur-Artour - Kulturkalender am Oberrhein &amp; Schwarzwald - Online Magazin - ECPv5.9.0//NONSGML v1.0//EN
CALSCALE:GREGORIAN
METHOD:PUBLISH
X-WR-CALNAME:Kultur-Artour - Kulturkalender am Oberrhein &amp; Schwarzwald - Online Magazin
X-ORIGINAL-URL:https://www.kulturartour.de
X-WR-CALDESC:Veranstaltungen für Kultur-Artour - Kulturkalender am Oberrhein &amp; Schwarzwald - Online Magazin
BEGIN:VTIMEZONE
TZID:Europe/Berlin
BEGIN:DAYLIGHT
TZOFFSETFROM:+0100
TZOFFSETTO:+0200
TZNAME:CEST
DTSTART:20260329T010000
END:DAYLIGHT
BEGIN:STANDARD
TZOFFSETFROM:+0200
TZOFFSETTO:+0100
TZNAME:CET
DTSTART:20261025T010000
END:STANDARD
END:VTIMEZONE
BEGIN:VEVENT
DTSTART;VALUE=DATE:20260508
DTEND;VALUE=DATE:20260629
DTSTAMP:20260420T143935
CREATED:20260220T201755Z
LAST-MODIFIED:20260416T214250Z
UID:192433-1778198400-1782691199@www.kulturartour.de
SUMMARY:Lebensräume – Silke Wellmeier\, Tecklenburg
DESCRIPTION:08.05. – 28.06.2026 Lebensräume – Silke Wellmeier\, Tecklenburg*\nIhre Arbeiten nehmen Bezug auf aktuelle Themen wie die Komplexität und Fragilität von Ökosystemen. Mit „Grascolors“ etwa spielt die Porzellankünstlerin (*1977) auf die Farbnuancen getrockneter Gräser unter extremen Bedingungen an\, die sie zuvor fotografisch dokumentiert hat. Mit Bedacht und Fingerspitzengefühl entwickelt sie papierdünne Körper in Aufbautechnik und sucht in diesem Prozess der Formgebung unserer „Zeit der großen Beschleunigung“ und Entfremdung entgegen zu wirken. \nVernissage am 08.05.2026; 19:00 im Studio des Keramikmuseums Staufen
URL:https://www.kulturartour.de/event/lebensraeume-silke-wellmeier-tecklenburg/
LOCATION:Staufen\, Keramikmuseum\, Staufen\, Deutschland
CATEGORIES:Ausstellungen
END:VEVENT
END:VCALENDAR