BEGIN:VCALENDAR
VERSION:2.0
PRODID:-//Kultur-Artour - Kulturkalender am Oberrhein &amp; Schwarzwald - Online Magazin - ECPv5.9.0//NONSGML v1.0//EN
CALSCALE:GREGORIAN
METHOD:PUBLISH
X-WR-CALNAME:Kultur-Artour - Kulturkalender am Oberrhein &amp; Schwarzwald - Online Magazin
X-ORIGINAL-URL:https://www.kulturartour.de
X-WR-CALDESC:Veranstaltungen für Kultur-Artour - Kulturkalender am Oberrhein &amp; Schwarzwald - Online Magazin
BEGIN:VTIMEZONE
TZID:Europe/Berlin
BEGIN:DAYLIGHT
TZOFFSETFROM:+0100
TZOFFSETTO:+0200
TZNAME:CEST
DTSTART:20250330T010000
END:DAYLIGHT
BEGIN:STANDARD
TZOFFSETFROM:+0200
TZOFFSETTO:+0100
TZNAME:CET
DTSTART:20251026T010000
END:STANDARD
BEGIN:DAYLIGHT
TZOFFSETFROM:+0100
TZOFFSETTO:+0200
TZNAME:CEST
DTSTART:20260329T010000
END:DAYLIGHT
BEGIN:STANDARD
TZOFFSETFROM:+0200
TZOFFSETTO:+0100
TZNAME:CET
DTSTART:20261025T010000
END:STANDARD
END:VTIMEZONE
BEGIN:VEVENT
DTSTART;VALUE=DATE:20251018
DTEND;VALUE=DATE:20260316
DTSTAMP:20260423T110306
CREATED:20251012T113346Z
LAST-MODIFIED:20251012T113346Z
UID:183782-1760745600-1773619199@www.kulturartour.de
SUMMARY:„Le Corbusier – Visionär der Moderne“ - 18.10.25 - 15.3.26 - Kunsthalle Messmer in Riegel
DESCRIPTION:Die Kunsthalle Messmer präsentiert das vielseitige Werk Le Corbusiers (1887-1965)\, der sich nicht nur als Architekt und Stadtplaner\, sondern auch als Möbeldesigner\, Maler\, Zeichner\, Druckgrafiker und Schriftsteller einen Namen gemacht hat.
URL:https://www.kulturartour.de/event/le-corbusier-visionaer-moderne/
LOCATION:Riegel\, kunsthalle messmer\, Riegel\, Deutschland
CATEGORIES:Ausstellungen
END:VEVENT
END:VCALENDAR