BEGIN:VCALENDAR
VERSION:2.0
PRODID:-//Kultur-Artour - Kulturkalender am Oberrhein &amp; Schwarzwald - Online Magazin - ECPv5.9.0//NONSGML v1.0//EN
CALSCALE:GREGORIAN
METHOD:PUBLISH
X-WR-CALNAME:Kultur-Artour - Kulturkalender am Oberrhein &amp; Schwarzwald - Online Magazin
X-ORIGINAL-URL:https://www.kulturartour.de
X-WR-CALDESC:Veranstaltungen für Kultur-Artour - Kulturkalender am Oberrhein &amp; Schwarzwald - Online Magazin
BEGIN:VTIMEZONE
TZID:Europe/Berlin
BEGIN:DAYLIGHT
TZOFFSETFROM:+0100
TZOFFSETTO:+0200
TZNAME:CEST
DTSTART:20260329T010000
END:DAYLIGHT
BEGIN:STANDARD
TZOFFSETFROM:+0200
TZOFFSETTO:+0100
TZNAME:CET
DTSTART:20261025T010000
END:STANDARD
END:VTIMEZONE
BEGIN:VEVENT
DTSTART;TZID=Europe/Berlin:20260625T200000
DTEND;TZID=Europe/Berlin:20260625T200000
DTSTAMP:20260422T013640
CREATED:20260323T194137Z
LAST-MODIFIED:20260323T194159Z
UID:193800-1782417600-1782417600@www.kulturartour.de
SUMMARY:Klavierquintett: ´Bemerkenswerte Debüts´
DESCRIPTION:Franz Schubert Sonatensatz D28 für Violine\, Violoncello und Klavier\nSergei Rachmaninow Trio élégiaque Nr. 1 g-Moll\, op. posth.\nDmitri Schostakowitsch Klaviertrio Nr. 1 c-Moll\, op. 8\nGustav Mahler Klavierquartettsatz a-Moll\nErnst von Dohnányi Klavierquintett Nr. 1 c-Moll\, op. 1
URL:https://www.kulturartour.de/event/klavierquintett-bemerkenswerte-debuets/
LOCATION:VS – Villingen\, Franziskaner Konzerthaus\, VS - Villingen\, Deutschland
CATEGORIES:Konzerte
END:VEVENT
END:VCALENDAR