BEGIN:VCALENDAR
VERSION:2.0
PRODID:-//Kultur-Artour - Kulturkalender am Oberrhein &amp; Schwarzwald - Online Magazin - ECPv5.9.0//NONSGML v1.0//EN
CALSCALE:GREGORIAN
METHOD:PUBLISH
X-WR-CALNAME:Kultur-Artour - Kulturkalender am Oberrhein &amp; Schwarzwald - Online Magazin
X-ORIGINAL-URL:https://www.kulturartour.de
X-WR-CALDESC:Veranstaltungen für Kultur-Artour - Kulturkalender am Oberrhein &amp; Schwarzwald - Online Magazin
BEGIN:VTIMEZONE
TZID:Europe/Berlin
BEGIN:DAYLIGHT
TZOFFSETFROM:+0100
TZOFFSETTO:+0200
TZNAME:CEST
DTSTART:20240331T010000
END:DAYLIGHT
BEGIN:STANDARD
TZOFFSETFROM:+0200
TZOFFSETTO:+0100
TZNAME:CET
DTSTART:20241027T010000
END:STANDARD
END:VTIMEZONE
BEGIN:VEVENT
DTSTART;TZID=Europe/Berlin:20240420T180000
DTEND;TZID=Europe/Berlin:20240420T180000
DTSTAMP:20260425T215229
CREATED:20240415T084259Z
LAST-MODIFIED:20240415T084259Z
UID:151046-1713636000-1713636000@www.kulturartour.de
SUMMARY:„Klassik mal 2 – Markgräflerland trifft Bodensee“ - Konzerte des Markgräfler Symphonieorchester und dem Sinfonieorchester Friedrichshafen
DESCRIPTION:Der Bundesverband Amateurmusik Sinfonie- und Kammerorchester e.V. (BDLO) gestaltet anlässlich seines 100-jährigen Bestehens ein Jubiläumsjahr. Zeitgleich freut sich der Landesverband Baden-Württembergischer Liebhaberorchester (LBWL)\, der Verband für alle Amateurorchester in Baden-Württemberg\, auf sein 40. Jubiläumsjahr. \nEs gibt es verschiedene Veranstaltungen auf regionaler und Landesebene wie z. B. Begegnungskonzerte\, bei denen zwei Mitgliedsorchester ein gemeinsames Konzertprogramm gestalten. So geschehen mit dem Markgräfler Symphonieorchester und dem Sinfonieorchester Friedrichshafen. \nUnter dem Motto „Klassik mal 2 – Markgräflerland trifft Bodensee“ folgt einem Konzert in Friedrichshafen ein Konzert in Müllheim am Samstag\, dem 20. April 2024\, und ein weiteres Konzert in Bad Krozingen am Sonntag\, dem 21. April 2024. \nUwe Müller-Feser\, jetziger Leiter\, Dirigent und Mitgründer des Markgräfler Symphonieorchester\, wird Ihnen als Gesprächspartner zur Verfügung stehen.
URL:https://www.kulturartour.de/event/klassik-markgraeflerland-bodensee-konzerte/
END:VEVENT
END:VCALENDAR