BEGIN:VCALENDAR
VERSION:2.0
PRODID:-//Kultur-Artour - Kulturkalender am Oberrhein &amp; Schwarzwald - Online Magazin - ECPv5.9.0//NONSGML v1.0//EN
CALSCALE:GREGORIAN
METHOD:PUBLISH
X-WR-CALNAME:Kultur-Artour - Kulturkalender am Oberrhein &amp; Schwarzwald - Online Magazin
X-ORIGINAL-URL:https://www.kulturartour.de
X-WR-CALDESC:Veranstaltungen für Kultur-Artour - Kulturkalender am Oberrhein &amp; Schwarzwald - Online Magazin
BEGIN:VTIMEZONE
TZID:Europe/Berlin
BEGIN:DAYLIGHT
TZOFFSETFROM:+0100
TZOFFSETTO:+0200
TZNAME:CEST
DTSTART:20260329T010000
END:DAYLIGHT
BEGIN:STANDARD
TZOFFSETFROM:+0200
TZOFFSETTO:+0100
TZNAME:CET
DTSTART:20261025T010000
END:STANDARD
END:VTIMEZONE
BEGIN:VEVENT
DTSTART;TZID=Europe/Berlin:20260503T150000
DTEND;TZID=Europe/Berlin:20260503T150000
DTSTAMP:20260426T055759
CREATED:20260311T111220Z
LAST-MODIFIED:20260311T111220Z
UID:193277-1777820400-1777820400@www.kulturartour.de
SUMMARY:Kinderkonzert "Hänsel und Gretel verirrten sich ..." - ein zauberhaftes Orgelmärchen nach E. Humperdinck mit dem Kinderchor Herz Jesu
DESCRIPTION:
URL:https://www.kulturartour.de/event/kinderkonzert-haensel-gretel-orgelmaerchen/
LOCATION:Ettlingen\, Herz Jesu Kirche\, Ettlingen\, Deutschland
CATEGORIES:Junge Bühne
GEO:48.943208;8.3980172
END:VEVENT
END:VCALENDAR