BEGIN:VCALENDAR
VERSION:2.0
PRODID:-//Kultur-Artour - Kulturkalender am Oberrhein &amp; Schwarzwald - Online Magazin - ECPv5.9.0//NONSGML v1.0//EN
CALSCALE:GREGORIAN
METHOD:PUBLISH
X-WR-CALNAME:Kultur-Artour - Kulturkalender am Oberrhein &amp; Schwarzwald - Online Magazin
X-ORIGINAL-URL:https://www.kulturartour.de
X-WR-CALDESC:Veranstaltungen für Kultur-Artour - Kulturkalender am Oberrhein &amp; Schwarzwald - Online Magazin
BEGIN:VTIMEZONE
TZID:Europe/Berlin
BEGIN:DAYLIGHT
TZOFFSETFROM:+0100
TZOFFSETTO:+0200
TZNAME:CEST
DTSTART:20260329T010000
END:DAYLIGHT
BEGIN:STANDARD
TZOFFSETFROM:+0200
TZOFFSETTO:+0100
TZNAME:CET
DTSTART:20261025T010000
END:STANDARD
END:VTIMEZONE
BEGIN:VEVENT
DTSTART;VALUE=DATE:20260510
DTEND;VALUE=DATE:20260629
DTSTAMP:20260422T233444
CREATED:20260222T103413Z
LAST-MODIFIED:20260406T195918Z
UID:192535-1778371200-1782691199@www.kulturartour.de
SUMMARY:Karin Kneffel - "1996 – Zurück am selben Ort – 2026"
DESCRIPTION:
URL:https://www.kulturartour.de/event/karin-kneffel/
LOCATION:Rottweil\, Forum Kunst\, Rottweil\, Deutschland
CATEGORIES:Ausstellungen
GEO:48.1652577;8.628453
END:VEVENT
END:VCALENDAR