BEGIN:VCALENDAR
VERSION:2.0
PRODID:-//Kultur-Artour - Kulturkalender am Oberrhein &amp; Schwarzwald - Online Magazin - ECPv5.9.0//NONSGML v1.0//EN
CALSCALE:GREGORIAN
METHOD:PUBLISH
X-WR-CALNAME:Kultur-Artour - Kulturkalender am Oberrhein &amp; Schwarzwald - Online Magazin
X-ORIGINAL-URL:https://www.kulturartour.de
X-WR-CALDESC:Veranstaltungen für Kultur-Artour - Kulturkalender am Oberrhein &amp; Schwarzwald - Online Magazin
BEGIN:VTIMEZONE
TZID:Europe/Berlin
BEGIN:DAYLIGHT
TZOFFSETFROM:+0100
TZOFFSETTO:+0200
TZNAME:CEST
DTSTART:20260329T010000
END:DAYLIGHT
BEGIN:STANDARD
TZOFFSETFROM:+0200
TZOFFSETTO:+0100
TZNAME:CET
DTSTART:20261025T010000
END:STANDARD
END:VTIMEZONE
BEGIN:VEVENT
DTSTART;TZID=Europe/Berlin:20260513T123000
DTEND;TZID=Europe/Berlin:20260513T123000
DTSTAMP:20260423T050826
CREATED:20260204T161738Z
LAST-MODIFIED:20260204T161738Z
UID:191718-1778675400-1778675400@www.kulturartour.de
SUMMARY:Kammermusik von Wolfgang Amadeus Mozart
DESCRIPTION:
URL:https://www.kulturartour.de/event/kammermusik-wolfgang-amadeus-mozart/
LOCATION:Strasbourg\, Opéra\, Strasbourg\, Frankreich
CATEGORIES:Konzerte
END:VEVENT
END:VCALENDAR