BEGIN:VCALENDAR
VERSION:2.0
PRODID:-//Kultur-Artour - Kulturkalender am Oberrhein &amp; Schwarzwald - Online Magazin - ECPv5.9.0//NONSGML v1.0//EN
CALSCALE:GREGORIAN
METHOD:PUBLISH
X-WR-CALNAME:Kultur-Artour - Kulturkalender am Oberrhein &amp; Schwarzwald - Online Magazin
X-ORIGINAL-URL:https://www.kulturartour.de
X-WR-CALDESC:Veranstaltungen für Kultur-Artour - Kulturkalender am Oberrhein &amp; Schwarzwald - Online Magazin
BEGIN:VTIMEZONE
TZID:Europe/Berlin
BEGIN:DAYLIGHT
TZOFFSETFROM:+0100
TZOFFSETTO:+0200
TZNAME:CEST
DTSTART:20260329T010000
END:DAYLIGHT
BEGIN:STANDARD
TZOFFSETFROM:+0200
TZOFFSETTO:+0100
TZNAME:CET
DTSTART:20261025T010000
END:STANDARD
END:VTIMEZONE
BEGIN:VEVENT
DTSTART;VALUE=DATE:20260620
DTEND;VALUE=DATE:20260907
DTSTAMP:20260423T142228
CREATED:20260420T172825Z
LAST-MODIFIED:20260420T172825Z
UID:195461-1781913600-1788739199@www.kulturartour.de
SUMMARY:Hans Reffert
DESCRIPTION:Hans Reffert (1946-2016) gehörte zu den Urgesteinen der hiesigen Rockmusik. Als Musiker spielte er seit 1960 zunächst mit Siggi Schwab\, später mit verschiedenen Rockgruppen\, von denen die bekannteste sicher Guru Guru war. Sein künstlerisches Wirken kann aber nicht auf die Musik reduziert werden. Er war ein Multitalent und u.a. auch als bildender Künstler tätig. In über fünfzig Jahren schuf er ein umfangreiches\, vielfältiges Œuvre\, das die Bereiche Malerei\, Zeichnung\, Druckgrafik\, Aquarell und Skulptur umfasst.
URL:https://www.kulturartour.de/event/kabinettstuecke-raymond-pettibon-nervous-2-2-2-2/
LOCATION:Ludwigshafen\, Wilhelm Hack Museum\, Ludwigshafen\, Deutschland
CATEGORIES:Ausstellungen
END:VEVENT
END:VCALENDAR