BEGIN:VCALENDAR
VERSION:2.0
PRODID:-//Kultur-Artour - Kulturkalender am Oberrhein &amp; Schwarzwald - Online Magazin - ECPv5.9.0//NONSGML v1.0//EN
CALSCALE:GREGORIAN
METHOD:PUBLISH
X-WR-CALNAME:Kultur-Artour - Kulturkalender am Oberrhein &amp; Schwarzwald - Online Magazin
X-ORIGINAL-URL:https://www.kulturartour.de
X-WR-CALDESC:Veranstaltungen für Kultur-Artour - Kulturkalender am Oberrhein &amp; Schwarzwald - Online Magazin
BEGIN:VTIMEZONE
TZID:Europe/Berlin
BEGIN:DAYLIGHT
TZOFFSETFROM:+0100
TZOFFSETTO:+0200
TZNAME:CEST
DTSTART:20260329T010000
END:DAYLIGHT
BEGIN:STANDARD
TZOFFSETFROM:+0200
TZOFFSETTO:+0100
TZNAME:CET
DTSTART:20261025T010000
END:STANDARD
END:VTIMEZONE
BEGIN:VEVENT
DTSTART;TZID=Europe/Berlin:20260510T190000
DTEND;TZID=Europe/Berlin:20260510T210000
DTSTAMP:20260420T130424
CREATED:20260223T120355Z
LAST-MODIFIED:20260223T120744Z
UID:192562-1778439600-1778446800@www.kulturartour.de
SUMMARY:Jubiläumskonzert Mendelssohn – Die erste Walpurgisnacht – 2. Sinfonie “Lobgesang”
DESCRIPTION:Jubiläumskonzert zum 50jährigem Bestehen des Freiburger Oratorienchores    \nFelix Mendelssohn-Bartholdy \nDie erste Walpurgisnacht op. 60\nSinfonie Nr. 2  (Lobgesang)  op. 52 \n4 Gesangsoli\nJohanna Allevato\, Sopran\nJulia Werner\, Alt\nPhilipp Nicklaus\, Tenor\nHanno Müller-Brachmann\, Bass \nOrchester:   Bodensee Philharmonie\nLeitung:  Bernhard Gärtner \nIn 2026 feiert der Freiburger Oratorienchor sein 50jähriges Jubiläum mit zwei großen Konzerten.\nDas erste findet im Konzerthaus mit einem Programm statt\, das man vielleicht unter dem Aspekt der Toleranz\, des Achtens gegensätzlicher Ansichten und der Sehnsucht nach Freiheit betrachten könnte. \nJohann Wolfgang von Goethe nannte sein Gedicht Die erste Walpurgisnacht eine „dramatische Ballade“.\nSie stellt einen reinen\, aus der Erkenntnis der Natur entstandenen Monotheismus den andersgläubigen Sitten der frühen europäischen Kirche gegenüber.\nDer zentrale Gedanke ist die unreflektierte Intoleranz einer sich selbst absolut setzenden Institution gegenüber einer Minderheit so wie die unausgesprochene Forderung nach Toleranz für Andersdenkende bzw. Abergläubige.\nFelix Mendelssohn\, ein enger Freund Goethes\, setzte dieses Gedicht in Töne und schrieb nach der Vollendung der ersten Fassung an seine Schwester Fanny: „Nun hat sich das Ding gestaltet\, ist aber eine große Cantate mit großem Orchester geworden …“\nDiese Komposition gehört anerkanntermaßen zu den besten Werken der weltlichen Vokalmusik des 19. Jahrhunderts. \n1840 war der Anlass für die Komposition der Sinfonie Nr. 2 in B-Dur\, die gleichermaßen unter dem Namen Lobgesang bekannt ist\, das 400jährige Jubiläum der Erfindung des Buchdrucks durch Johannes Gutenberg. Mendelssohn sah in der Buchdruckerei den Sieg des menschlichen Geistes über die Finsternis.\nDer Freiburger Oratorienchor nimmt diese „Jubiläumskomposition“ als zentrales Hauptwerk seines Jubiläumskonzertes.
URL:https://www.kulturartour.de/event/jubilaeumskonzert-mendelssohn-die-walpurgisnacht/
LOCATION:Freiburg\, Konzerthaus
CATEGORIES:Konzerte
ORGANIZER;CN="Freiburger%20Oratorienchor":MAILTO:info@freiburgeroratorienchor.clubdesk.com
END:VEVENT
END:VCALENDAR