BEGIN:VCALENDAR
VERSION:2.0
PRODID:-//Kultur-Artour - Kulturkalender am Oberrhein &amp; Schwarzwald - Online Magazin - ECPv5.9.0//NONSGML v1.0//EN
CALSCALE:GREGORIAN
METHOD:PUBLISH
X-WR-CALNAME:Kultur-Artour - Kulturkalender am Oberrhein &amp; Schwarzwald - Online Magazin
X-ORIGINAL-URL:https://www.kulturartour.de
X-WR-CALDESC:Veranstaltungen für Kultur-Artour - Kulturkalender am Oberrhein &amp; Schwarzwald - Online Magazin
BEGIN:VTIMEZONE
TZID:Europe/Berlin
BEGIN:DAYLIGHT
TZOFFSETFROM:+0100
TZOFFSETTO:+0200
TZNAME:CEST
DTSTART:20260329T010000
END:DAYLIGHT
BEGIN:STANDARD
TZOFFSETFROM:+0200
TZOFFSETTO:+0100
TZNAME:CET
DTSTART:20261025T010000
END:STANDARD
END:VTIMEZONE
BEGIN:VEVENT
DTSTART;TZID=Europe/Berlin:20261115T170000
DTEND;TZID=Europe/Berlin:20261115T170000
DTSTAMP:20260421T172809
CREATED:20260407T062034Z
LAST-MODIFIED:20260407T062034Z
UID:194469-1794762000-1794762000@www.kulturartour.de
SUMMARY:30 Jahre Kinderchor\, Leit: Martina Strauß
DESCRIPTION:
URL:https://www.kulturartour.de/event/jahre-kinderchor-leit-martina/
LOCATION:Oppenau\, Kath. Pfarrkirche\, Oppenau\, Deutschland
CATEGORIES:Junge Bühne
END:VEVENT
END:VCALENDAR