BEGIN:VCALENDAR
VERSION:2.0
PRODID:-//Kultur-Artour - Kulturkalender am Oberrhein &amp; Schwarzwald - Online Magazin - ECPv5.9.0//NONSGML v1.0//EN
CALSCALE:GREGORIAN
METHOD:PUBLISH
X-WR-CALNAME:Kultur-Artour - Kulturkalender am Oberrhein &amp; Schwarzwald - Online Magazin
X-ORIGINAL-URL:https://www.kulturartour.de
X-WR-CALDESC:Veranstaltungen für Kultur-Artour - Kulturkalender am Oberrhein &amp; Schwarzwald - Online Magazin
BEGIN:VTIMEZONE
TZID:Europe/Berlin
BEGIN:DAYLIGHT
TZOFFSETFROM:+0100
TZOFFSETTO:+0200
TZNAME:CEST
DTSTART:20250330T010000
END:DAYLIGHT
BEGIN:STANDARD
TZOFFSETFROM:+0200
TZOFFSETTO:+0100
TZNAME:CET
DTSTART:20251026T010000
END:STANDARD
BEGIN:DAYLIGHT
TZOFFSETFROM:+0100
TZOFFSETTO:+0200
TZNAME:CEST
DTSTART:20260329T010000
END:DAYLIGHT
BEGIN:STANDARD
TZOFFSETFROM:+0200
TZOFFSETTO:+0100
TZNAME:CET
DTSTART:20261025T010000
END:STANDARD
END:VTIMEZONE
BEGIN:VEVENT
DTSTART;VALUE=DATE:20250604
DTEND;VALUE=DATE:20260112
DTSTAMP:20260423T111237
CREATED:20250513T122534Z
LAST-MODIFIED:20250513T122534Z
UID:175019-1748995200-1768175999@www.kulturartour.de
SUMMARY:Insekten – schillernd schön und tierisch wichtig - Sonderausstellung Museum Natur und Mensch in Freiburg
DESCRIPTION:Unsere Welt ist voller Insekten. Manche stoßen auf allgemeine Bewunderung\, etwa Schmetterlinge oder Libellen. Tigermücke und Co. haben dagegen weniger Fans. Für uns und unsere Ökosysteme sind sie alle überlebenswichtig: zum Bestäuben von Pflanzen\, als Nahrung für andere Tiere oder als „Recyclingprofis“. Unzählige Insekten-Präparate\, faszinierende Makrofotografien von Janosch Waldkircher und Mitmachstationen laden zum Erforschen ein.
URL:https://www.kulturartour.de/event/insekten-sonderausstellung-museum-natur/
LOCATION:Freiburg\, Museum Natur und Mensch\, Freiburg\, Deutschland
CATEGORIES:Ausstellungen
END:VEVENT
END:VCALENDAR