BEGIN:VCALENDAR
VERSION:2.0
PRODID:-//Kultur-Artour - Kulturkalender am Oberrhein &amp; Schwarzwald - Online Magazin - ECPv5.9.0//NONSGML v1.0//EN
CALSCALE:GREGORIAN
METHOD:PUBLISH
X-WR-CALNAME:Kultur-Artour - Kulturkalender am Oberrhein &amp; Schwarzwald - Online Magazin
X-ORIGINAL-URL:https://www.kulturartour.de
X-WR-CALDESC:Veranstaltungen für Kultur-Artour - Kulturkalender am Oberrhein &amp; Schwarzwald - Online Magazin
BEGIN:VTIMEZONE
TZID:Europe/Berlin
BEGIN:DAYLIGHT
TZOFFSETFROM:+0100
TZOFFSETTO:+0200
TZNAME:CEST
DTSTART:20260329T010000
END:DAYLIGHT
BEGIN:STANDARD
TZOFFSETFROM:+0200
TZOFFSETTO:+0100
TZNAME:CET
DTSTART:20261025T010000
END:STANDARD
END:VTIMEZONE
BEGIN:VEVENT
DTSTART;VALUE=DATE:20260821
DTEND;VALUE=DATE:20261012
DTSTAMP:20260423T205442
CREATED:20260422T205331Z
LAST-MODIFIED:20260422T205331Z
UID:195536-1787270400-1791763199@www.kulturartour.de
SUMMARY:Im Rhythmus der Jahreszeiten – Maya Micenmacher-Rousseau\, Ivoy le Pré F
DESCRIPTION:„Wenn ich arbeite\, denke ich nicht darüber nach\, was ich tun werde.“ Der Eingebung des Augenblicks folgend\, gestaltet die Keramikerin Maya Micenmacher-Rousseau (*1972) ihr Geschirr. Über die Jahre hat sie einen unverwechselbaren Stil entwickelt\, der sich in einem bestimmten Kanon aus schlichten Gebrauchsformen und üppigen Dekoren zumeist in Blau-weiß bewegt. Am Ende überlässt sie der Flamme des Holzfeuers bei bis zu 1300°C das endgültige Erscheinungsbild ihrer Arbeiten.
URL:https://www.kulturartour.de/event/im-rhythmus-jahreszeiten-maya/
LOCATION:Staufen\, Keramikmuseum\, Staufen\, Deutschland
CATEGORIES:Ausstellungen
END:VEVENT
END:VCALENDAR