BEGIN:VCALENDAR
VERSION:2.0
PRODID:-//Kultur-Artour - Kulturkalender am Oberrhein &amp; Schwarzwald - Online Magazin - ECPv5.9.0//NONSGML v1.0//EN
CALSCALE:GREGORIAN
METHOD:PUBLISH
X-WR-CALNAME:Kultur-Artour - Kulturkalender am Oberrhein &amp; Schwarzwald - Online Magazin
X-ORIGINAL-URL:https://www.kulturartour.de
X-WR-CALDESC:Veranstaltungen für Kultur-Artour - Kulturkalender am Oberrhein &amp; Schwarzwald - Online Magazin
BEGIN:VTIMEZONE
TZID:Europe/Berlin
BEGIN:DAYLIGHT
TZOFFSETFROM:+0100
TZOFFSETTO:+0200
TZNAME:CEST
DTSTART:20260329T010000
END:DAYLIGHT
BEGIN:STANDARD
TZOFFSETFROM:+0200
TZOFFSETTO:+0100
TZNAME:CET
DTSTART:20261025T010000
END:STANDARD
END:VTIMEZONE
BEGIN:VEVENT
DTSTART;TZID=Europe/Berlin:20260429T200000
DTEND;TZID=Europe/Berlin:20260429T200000
DTSTAMP:20260422T033628
CREATED:20260202T070748Z
LAST-MODIFIED:20260202T070748Z
UID:191206-1777492800-1777492800@www.kulturartour.de
SUMMARY:Huw Montague Rendall\, Bariton + Hélio Vida\, Klavier - Lieder v. Fauré + Gerald Finzi u.a.
DESCRIPTION:
URL:https://www.kulturartour.de/event/huw-montague-rendall-bariton/
LOCATION:Strasbourg\, Opéra\, Strasbourg\, Frankreich
CATEGORIES:Konzerte
END:VEVENT
END:VCALENDAR