BEGIN:VCALENDAR
VERSION:2.0
PRODID:-//Kultur-Artour - Kulturkalender am Oberrhein &amp; Schwarzwald - Online Magazin - ECPv5.9.0//NONSGML v1.0//EN
CALSCALE:GREGORIAN
METHOD:PUBLISH
X-WR-CALNAME:Kultur-Artour - Kulturkalender am Oberrhein &amp; Schwarzwald - Online Magazin
X-ORIGINAL-URL:https://www.kulturartour.de
X-WR-CALDESC:Veranstaltungen für Kultur-Artour - Kulturkalender am Oberrhein &amp; Schwarzwald - Online Magazin
BEGIN:VTIMEZONE
TZID:Europe/Berlin
BEGIN:DAYLIGHT
TZOFFSETFROM:+0100
TZOFFSETTO:+0200
TZNAME:CEST
DTSTART:20250330T010000
END:DAYLIGHT
BEGIN:STANDARD
TZOFFSETFROM:+0200
TZOFFSETTO:+0100
TZNAME:CET
DTSTART:20251026T010000
END:STANDARD
BEGIN:DAYLIGHT
TZOFFSETFROM:+0100
TZOFFSETTO:+0200
TZNAME:CEST
DTSTART:20260329T010000
END:DAYLIGHT
BEGIN:STANDARD
TZOFFSETFROM:+0200
TZOFFSETTO:+0100
TZNAME:CET
DTSTART:20261025T010000
END:STANDARD
END:VTIMEZONE
BEGIN:VEVENT
DTSTART;VALUE=DATE:20250511
DTEND;VALUE=DATE:20260112
DTSTAMP:20260424T043534
CREATED:20250516T110418Z
LAST-MODIFIED:20250516T110509Z
UID:175369-1746921600-1768175999@www.kulturartour.de
SUMMARY:„Horst Hamann – Kaiserdom zu Speyer. Vertical Photographs“.
DESCRIPTION:Die Foto-Ausstellung ist das Projekt der Europäischen Stiftung Kaiserdom zu Speyer und wird durch die Forschungsstelle Geschichte und Kulturelles Erbe gefördert.
URL:https://www.kulturartour.de/event/horst-hamann-kaiserdom-speyer/
LOCATION:Speyer\, Historisches Museum der Pfalz\, Speyer\, Deutschland
CATEGORIES:Ausstellungen
END:VEVENT
END:VCALENDAR