BEGIN:VCALENDAR
VERSION:2.0
PRODID:-//Kultur-Artour - Kulturkalender am Oberrhein &amp; Schwarzwald - Online Magazin - ECPv5.9.0//NONSGML v1.0//EN
CALSCALE:GREGORIAN
METHOD:PUBLISH
X-WR-CALNAME:Kultur-Artour - Kulturkalender am Oberrhein &amp; Schwarzwald - Online Magazin
X-ORIGINAL-URL:https://www.kulturartour.de
X-WR-CALDESC:Veranstaltungen für Kultur-Artour - Kulturkalender am Oberrhein &amp; Schwarzwald - Online Magazin
BEGIN:VTIMEZONE
TZID:Europe/Berlin
BEGIN:DAYLIGHT
TZOFFSETFROM:+0100
TZOFFSETTO:+0200
TZNAME:CEST
DTSTART:20260329T010000
END:DAYLIGHT
BEGIN:STANDARD
TZOFFSETFROM:+0200
TZOFFSETTO:+0100
TZNAME:CET
DTSTART:20261025T010000
END:STANDARD
END:VTIMEZONE
BEGIN:VEVENT
DTSTART;TZID=Europe/Berlin:20260607T180000
DTEND;TZID=Europe/Berlin:20260607T180000
DTSTAMP:20260424T064704
CREATED:20260227T172242Z
LAST-MODIFIED:20260227T172242Z
UID:192788-1780855200-1780855200@www.kulturartour.de
SUMMARY:Hanke Brothers - Werke v. Oliver Davies\, Jonathan Hanke\, Aleksey Igudesman\, Christoph Reuter u.a. - im Rahmen der Klosterkonzerte
DESCRIPTION:
URL:https://www.kulturartour.de/event/hanke-brothers-werke-oliver/
LOCATION:Maulbronn\, Laienrefektorium\, Maulbronn\, Deutschland
CATEGORIES:Konzerte
END:VEVENT
END:VCALENDAR