BEGIN:VCALENDAR
VERSION:2.0
PRODID:-//Kultur-Artour - Kulturkalender am Oberrhein &amp; Schwarzwald - Online Magazin - ECPv5.9.0//NONSGML v1.0//EN
CALSCALE:GREGORIAN
METHOD:PUBLISH
X-WR-CALNAME:Kultur-Artour - Kulturkalender am Oberrhein &amp; Schwarzwald - Online Magazin
X-ORIGINAL-URL:https://www.kulturartour.de
X-WR-CALDESC:Veranstaltungen für Kultur-Artour - Kulturkalender am Oberrhein &amp; Schwarzwald - Online Magazin
BEGIN:VTIMEZONE
TZID:Europe/Berlin
BEGIN:DAYLIGHT
TZOFFSETFROM:+0100
TZOFFSETTO:+0200
TZNAME:CEST
DTSTART:20260329T010000
END:DAYLIGHT
BEGIN:STANDARD
TZOFFSETFROM:+0200
TZOFFSETTO:+0100
TZNAME:CET
DTSTART:20261025T010000
END:STANDARD
END:VTIMEZONE
BEGIN:VEVENT
DTSTART;TZID=Europe/Berlin:20260125T180000
DTEND;TZID=Europe/Berlin:20260125T200000
DTSTAMP:20260421T154404
CREATED:20260112T155155Z
LAST-MODIFIED:20260112T203959Z
UID:188550-1769364000-1769371200@www.kulturartour.de
SUMMARY:GEDOK / HfM – AUFTAKT II: Installation und Konzerte
DESCRIPTION:Im Rahmen der Reihe AUFTAKT der GEDOK Karlsruhe:\nAUFTAKT II \nStudierende der Hochschule für Musik Karlsruhe zu Gast \nInstallation und Konzerte \nVernissage mit Konzert: Sonntag\, 25.01.2026\, 18 Uhr\nKonzert: Donnerstag\, 29.01.2026\, 19 Uhr\nEinführung: Veronika Reutz Drobnić \nAusstellungsort: GEDOK Künstlerinnenforum\, Markgrafenstr. 14\, 76131 Karlsruhe\nAusstellungsdauer: Sonntag\, 25.01. – Sonntag\, 01.02.2026\nÖffnungszeiten: täglich (25.01.–01.02.2026) 17–19 Uhr \nFinissage mit Konzert: Sonntag\, 01.02.2026\, 18 Uhr\nEintritt frei\, Spenden willkommen \nStudierende der Hochschule für Musik Karlsruhe zu Gast bei GEDOK Karlsruhe\nInstallation und Konzerte im Künstlerinnenforum \nIm Rahmen der Reihe AUFTAKT lädt das GEDOK Künstlerinnenforum Karlsruhe zu einer besonderen Ausstellung ein: Vom 25. Januar bis zum 1. Februar 2026 präsentieren Studierende der Hochschule für Musik Karlsruhe Installationen und Konzerte mit Fokus auf das kreative Schaffen von Komponistinnen\, Musikerinnen\, Musikwissenschaftlerinnen und Musikinformatikerinnen. \nUnter der Leitung der Komponistin Veronika Reutz Drobnić zeigen die Teilnehmerinnen Werke\, die sowohl aktuelle als auch historische Beiträge von Frauen in der Musik beleuchten. Die interdisziplinären Arbeiten spiegeln die Vielfalt künstlerischer Ausdrucksformen wider\, von klanginstallativen Experimenten bis zu klassisch inspirierten Kompositionen. \nMit freundlicher Unterstützung der Stadt Karlsruhe. \nGEDOK Künstlerinnenforum Karlsruhe\nMarkgrafenstr.14 (Ecke Fritz-Erler-Str.)\, 76131 Karlsruhe\, Haltestelle: Kronenplatz\nwww.gedok-karlsruhe.de  /  gedok-karlsruhe@online.de / Fon: +49 (0) 721 / 37 41 37
URL:https://www.kulturartour.de/event/gedok-hfm-auftakt-ii/
LOCATION:Karlsruhe\, Gedok\, Markgrafenstr. 14\, Karlsruhe\, Baden-Württemberg\, 76131\, Deutschland
CATEGORIES:Ausstellungen
ORGANIZER;CN="GEDOK%20Karlsruhe%20e.V.":MAILTO:gedok-karlsruhe@online.de
GEO:49.0078762;8.4104609
X-APPLE-STRUCTURED-LOCATION;VALUE=URI;X-ADDRESS=Karlsruhe Gedok Markgrafenstr. 14 Karlsruhe Baden-Württemberg 76131 Deutschland;X-APPLE-RADIUS=500;X-TITLE=Markgrafenstr. 14:geo:8.4104609,49.0078762
END:VEVENT
END:VCALENDAR