BEGIN:VCALENDAR
VERSION:2.0
PRODID:-//Kultur-Artour - Kulturkalender am Oberrhein &amp; Schwarzwald - Online Magazin - ECPv5.9.0//NONSGML v1.0//EN
CALSCALE:GREGORIAN
METHOD:PUBLISH
X-WR-CALNAME:Kultur-Artour - Kulturkalender am Oberrhein &amp; Schwarzwald - Online Magazin
X-ORIGINAL-URL:https://www.kulturartour.de
X-WR-CALDESC:Veranstaltungen für Kultur-Artour - Kulturkalender am Oberrhein &amp; Schwarzwald - Online Magazin
BEGIN:VTIMEZONE
TZID:Europe/Berlin
BEGIN:DAYLIGHT
TZOFFSETFROM:+0100
TZOFFSETTO:+0200
TZNAME:CEST
DTSTART:20260329T010000
END:DAYLIGHT
BEGIN:STANDARD
TZOFFSETFROM:+0200
TZOFFSETTO:+0100
TZNAME:CET
DTSTART:20261025T010000
END:STANDARD
END:VTIMEZONE
BEGIN:VEVENT
DTSTART;TZID=Europe/Berlin:20260203T200000
DTEND;TZID=Europe/Berlin:20260203T200000
DTSTAMP:20260425T162041
CREATED:20250809T135516Z
LAST-MODIFIED:20250809T135516Z
UID:180088-1770148800-1770148800@www.kulturartour.de
SUMMARY:Gabriel Durliat\, Klavier - Werke v. Chopin\, Debussy\, Liszt\, Berlioz - AJAM
DESCRIPTION:
URL:https://www.kulturartour.de/event/gabriel-durliat-klavier-werke/
LOCATION:Saverne\, Château des Rohan\, Saverne\, Frankreich
GEO:48.741963;7.361647
END:VEVENT
END:VCALENDAR