BEGIN:VCALENDAR
VERSION:2.0
PRODID:-//Kultur-Artour - Kulturkalender am Oberrhein &amp; Schwarzwald - Online Magazin - ECPv5.9.0//NONSGML v1.0//EN
CALSCALE:GREGORIAN
METHOD:PUBLISH
X-WR-CALNAME:Kultur-Artour - Kulturkalender am Oberrhein &amp; Schwarzwald - Online Magazin
X-ORIGINAL-URL:https://www.kulturartour.de
X-WR-CALDESC:Veranstaltungen für Kultur-Artour - Kulturkalender am Oberrhein &amp; Schwarzwald - Online Magazin
BEGIN:VTIMEZONE
TZID:Europe/Berlin
BEGIN:DAYLIGHT
TZOFFSETFROM:+0100
TZOFFSETTO:+0200
TZNAME:CEST
DTSTART:20260329T010000
END:DAYLIGHT
BEGIN:STANDARD
TZOFFSETFROM:+0200
TZOFFSETTO:+0100
TZNAME:CET
DTSTART:20261025T010000
END:STANDARD
END:VTIMEZONE
BEGIN:VEVENT
DTSTART;TZID=Europe/Berlin:20260426T180000
DTEND;TZID=Europe/Berlin:20260426T180000
DTSTAMP:20260425T133621
CREATED:20260308T074512Z
LAST-MODIFIED:20260308T074512Z
UID:193220-1777226400-1777226400@www.kulturartour.de
SUMMARY:„Fragmente des Verborgenen"
DESCRIPTION:Antonio Vivaldi: Concerti\nSlobodan Jovanović: Organ concerto (Uraufführung)\,\nSound Leaks of Academia della Morte (Uraufführung)\, „Jedem seine Maske” \nSolist*innen\nMitglieder des Bachchor Karlsruhe\nEnsemble Serene Destination\nLeitung & Orgel: Kirchenmusikdirektor Christian-Markus Raiser \nEintritt
URL:https://www.kulturartour.de/event/fragmente-des-verborgenen/
LOCATION:Karlsruhe\, Kleine Kirche\, Kaiserstrasse 131\, Karlsruhe\, 76133\, Deutschland
CATEGORIES:Konzerte
GEO:49.0092007;8.4053784
X-APPLE-STRUCTURED-LOCATION;VALUE=URI;X-ADDRESS=Karlsruhe Kleine Kirche Kaiserstrasse 131 Karlsruhe 76133 Deutschland;X-APPLE-RADIUS=500;X-TITLE=Kaiserstrasse 131:geo:8.4053784,49.0092007
END:VEVENT
END:VCALENDAR