BEGIN:VCALENDAR
VERSION:2.0
PRODID:-//Kultur-Artour - Kulturkalender am Oberrhein &amp; Schwarzwald - Online Magazin - ECPv5.9.0//NONSGML v1.0//EN
CALSCALE:GREGORIAN
METHOD:PUBLISH
X-WR-CALNAME:Kultur-Artour - Kulturkalender am Oberrhein &amp; Schwarzwald - Online Magazin
X-ORIGINAL-URL:https://www.kulturartour.de
X-WR-CALDESC:Veranstaltungen für Kultur-Artour - Kulturkalender am Oberrhein &amp; Schwarzwald - Online Magazin
BEGIN:VTIMEZONE
TZID:Europe/Berlin
BEGIN:DAYLIGHT
TZOFFSETFROM:+0100
TZOFFSETTO:+0200
TZNAME:CEST
DTSTART:20260329T010000
END:DAYLIGHT
BEGIN:STANDARD
TZOFFSETFROM:+0200
TZOFFSETTO:+0100
TZNAME:CET
DTSTART:20261025T010000
END:STANDARD
END:VTIMEZONE
BEGIN:VEVENT
DTSTART;TZID=Europe/Berlin:20260508T190000
DTEND;TZID=Europe/Berlin:20260508T190000
DTSTAMP:20260426T011540
CREATED:20260306T202757Z
LAST-MODIFIED:20260306T202757Z
UID:192978-1778266800-1778266800@www.kulturartour.de
SUMMARY:Florian Schroeder - "Endlich glücklich"
DESCRIPTION:
URL:https://www.kulturartour.de/event/florian-schroeder-endlich-gluecklich-2/
LOCATION:Donaueschingen\, Donauhallen – Strawinsky Saal\, Donaueschingen\, Deutschland
CATEGORIES:Kleinkunst
END:VEVENT
END:VCALENDAR