BEGIN:VCALENDAR
VERSION:2.0
PRODID:-//Kultur-Artour - Kulturkalender am Oberrhein &amp; Schwarzwald - Online Magazin - ECPv5.9.0//NONSGML v1.0//EN
CALSCALE:GREGORIAN
METHOD:PUBLISH
X-WR-CALNAME:Kultur-Artour - Kulturkalender am Oberrhein &amp; Schwarzwald - Online Magazin
X-ORIGINAL-URL:https://www.kulturartour.de
X-WR-CALDESC:Veranstaltungen für Kultur-Artour - Kulturkalender am Oberrhein &amp; Schwarzwald - Online Magazin
BEGIN:VTIMEZONE
TZID:Europe/Berlin
BEGIN:DAYLIGHT
TZOFFSETFROM:+0100
TZOFFSETTO:+0200
TZNAME:CEST
DTSTART:20260329T010000
END:DAYLIGHT
BEGIN:STANDARD
TZOFFSETFROM:+0200
TZOFFSETTO:+0100
TZNAME:CET
DTSTART:20261025T010000
END:STANDARD
END:VTIMEZONE
BEGIN:VEVENT
DTSTART;TZID=Europe/Berlin:20260531T143000
DTEND;TZID=Europe/Berlin:20260531T160000
DTSTAMP:20260421T122326
CREATED:20260112T154639Z
LAST-MODIFIED:20260112T154652Z
UID:189145-1780237800-1780243200@www.kulturartour.de
SUMMARY:Fachwerktag
DESCRIPTION:Eine Reihe eindrucksvoller Fachwerkhäuser und winkelige\, steile Gassen vermitteln noch heute das Bild einer mittelalterlichen Stadt. \n\n\n\n\n\n\n\n\n\n\nVerwinkelte\, gepflasterte Gässchen gesäumt von mehr als 200 denkmalgeschützten Fachwerkhäusern des späten 17. Jahrhunderts – die Stadt Calw hat bis heute ihr mittelalterliches Bild bewahrt. Zerstört durch zahlreiche Stadtbrände\, wurde die Stadt stets auf den Grundmauern aus dem 13. und 14. Jahrhundert wieder aufgebaut. So versprüht Calw noch immer einen ganz besonderen Charme\, der bei einer Führung durch die pittoreske Fachwerkkulisse spür- und erlebbar wird. \nEine Anmeldung ist nicht erforderlich!
URL:https://www.kulturartour.de/event/fachwerktag/
LOCATION:Calw\, Innenstadt\, Calw\, Deutschland
CATEGORIES:Literatur Führungen Vorträge
ORGANIZER;CN="Touristinfo%20Calw":MAILTO:touristinfo@calw.de
END:VEVENT
END:VCALENDAR